Workbook

Sheet Cadastro
A1: Produtos e vendedores
A2: Produtos e preços à esquerda, vendedores à direita. Os dois alimentam as listas da aba Vendas.
A4: Produto | B4: Preço (R$) | D4: Vendedor | E4: Meta mensal (R$)
A5: Camiseta básica | B5: 49.9 | D5: Ana | E5: 6000
A6: Calça jeans | B6: 139.9 | D6: Bruno | E6: 6000
A7: Tênis esportivo | B7: 249.9 | D7: Carla | E7: 5000
A8: Boné | B8: 39.9 | D8: Diego | E8: 5000
A9: Jaqueta | B9: 219.9
A10: Meia (par) | B10: 12.9

Sheet Vendas
A1: Registro de vendas
A2: Escolha vendedor e produto nas listas; o preço e o total são calculados. O desconto é opcional.
A4: Data | B4: Vendedor | C4: Produto | D4: Quantidade | E4: Preço unitário | F4: Desconto | G4: Total da venda
A5: 46447 | B5: Ana | C5: Camiseta básica | D5: 3 | E5: =IF(C5="","",IFERROR(VLOOKUP(C5,Cadastro!$A$5:$B$34,2,FALSE),0)) -> 49.9 | F5: 0 | G5: =IF(OR(C5="",D5=""),"",D5*E5*(1-N(F5))) -> 149.7
A6: 46447 | B6: Bruno | C6: Calça jeans | D6: 2 | E6: =IF(C6="","",IFERROR(VLOOKUP(C6,Cadastro!$A$5:$B$34,2,FALSE),0)) -> 139.9 | F6: 0.05 | G6: =IF(OR(C6="",D6=""),"",D6*E6*(1-N(F6))) -> 265.81
A7: 46448 | B7: Carla | C7: Tênis esportivo | D7: 1 | E7: =IF(C7="","",IFERROR(VLOOKUP(C7,Cadastro!$A$5:$B$34,2,FALSE),0)) -> 249.9 | F7: 0 | G7: =IF(OR(C7="",D7=""),"",D7*E7*(1-N(F7))) -> 249.9
A8: 46449 | B8: Diego | C8: Boné | D8: 4 | E8: =IF(C8="","",IFERROR(VLOOKUP(C8,Cadastro!$A$5:$B$34,2,FALSE),0)) -> 39.9 | F8: 0 | G8: =IF(OR(C8="",D8=""),"",D8*E8*(1-N(F8))) -> 159.6
A9: 46450 | B9: Ana | C9: Jaqueta | D9: 1 | E9: =IF(C9="","",IFERROR(VLOOKUP(C9,Cadastro!$A$5:$B$34,2,FALSE),0)) -> 219.9 | F9: 0.1 | G9: =IF(OR(C9="",D9=""),"",D9*E9*(1-N(F9))) -> 197.91
A10: 46451 | B10: Bruno | C10: Meia (par) | D10: 10 | E10: =IF(C10="","",IFERROR(VLOOKUP(C10,Cadastro!$A$5:$B$34,2,FALSE),0)) -> 12.9 | F10: 0.1 | G10: =IF(OR(C10="",D10=""),"",D10*E10*(1-N(F10))) -> 116.1
A11: 46454 | B11: Carla | C11: Camiseta básica | D11: 5 | E11: =IF(C11="","",IFERROR(VLOOKUP(C11,Cadastro!$A$5:$B$34,2,FALSE),0)) -> 49.9 | F11: 0 | G11: =IF(OR(C11="",D11=""),"",D11*E11*(1-N(F11))) -> 249.5
A12: 46455 | B12: Ana | C12: Tênis esportivo | D12: 2 | E12: =IF(C12="","",IFERROR(VLOOKUP(C12,Cadastro!$A$5:$B$34,2,FALSE),0)) -> 249.9 | F12: 0.05 | G12: =IF(OR(C12="",D12=""),"",D12*E12*(1-N(F12))) -> 474.81
A13: 46458 | B13: Diego | C13: Calça jeans | D13: 3 | E13: =IF(C13="","",IFERROR(VLOOKUP(C13,Cadastro!$A$5:$B$34,2,FALSE),0)) -> 139.9 | F13: 0 | G13: =IF(OR(C13="",D13=""),"",D13*E13*(1-N(F13))) -> 419.7
A14: 46461 | B14: Bruno | C14: Jaqueta | D14: 2 | E14: =IF(C14="","",IFERROR(VLOOKUP(C14,Cadastro!$A$5:$B$34,2,FALSE),0)) -> 219.9 | F14: 0 | G14: =IF(OR(C14="",D14=""),"",D14*E14*(1-N(F14))) -> 439.8
A15: 46464 | B15: Carla | C15: Boné | D15: 6 | E15: =IF(C15="","",IFERROR(VLOOKUP(C15,Cadastro!$A$5:$B$34,2,FALSE),0)) -> 39.9 | F15: 0.1 | G15: =IF(OR(C15="",D15=""),"",D15*E15*(1-N(F15))) -> 215.46
A16: 46468 | B16: Ana | C16: Calça jeans | D16: 2 | E16: =IF(C16="","",IFERROR(VLOOKUP(C16,Cadastro!$A$5:$B$34,2,FALSE),0)) -> 139.9 | F16: 0 | G16: =IF(OR(C16="",D16=""),"",D16*E16*(1-N(F16))) -> 279.8
E17: =IF(C17="","",IFERROR(VLOOKUP(C17,Cadastro!$A$5:$B$34,2,FALSE),0)) | G17: =IF(OR(C17="",D17=""),"",D17*E17*(1-N(F17)))
E18: =IF(C18="","",IFERROR(VLOOKUP(C18,Cadastro!$A$5:$B$34,2,FALSE),0)) | G18: =IF(OR(C18="",D18=""),"",D18*E18*(1-N(F18)))
E19: =IF(C19="","",IFERROR(VLOOKUP(C19,Cadastro!$A$5:$B$34,2,FALSE),0)) | G19: =IF(OR(C19="",D19=""),"",D19*E19*(1-N(F19)))
E20: =IF(C20="","",IFERROR(VLOOKUP(C20,Cadastro!$A$5:$B$34,2,FALSE),0)) | G20: =IF(OR(C20="",D20=""),"",D20*E20*(1-N(F20)))
E21: =IF(C21="","",IFERROR(VLOOKUP(C21,Cadastro!$A$5:$B$34,2,FALSE),0)) | G21: =IF(OR(C21="",D21=""),"",D21*E21*(1-N(F21)))
E22: =IF(C22="","",IFERROR(VLOOKUP(C22,Cadastro!$A$5:$B$34,2,FALSE),0)) | G22: =IF(OR(C22="",D22=""),"",D22*E22*(1-N(F22)))
E23: =IF(C23="","",IFERROR(VLOOKUP(C23,Cadastro!$A$5:$B$34,2,FALSE),0)) | G23: =IF(OR(C23="",D23=""),"",D23*E23*(1-N(F23)))
E24: =IF(C24="","",IFERROR(VLOOKUP(C24,Cadastro!$A$5:$B$34,2,FALSE),0)) | G24: =IF(OR(C24="",D24=""),"",D24*E24*(1-N(F24)))
E25: =IF(C25="","",IFERROR(VLOOKUP(C25,Cadastro!$A$5:$B$34,2,FALSE),0)) | G25: =IF(OR(C25="",D25=""),"",D25*E25*(1-N(F25)))
E26: =IF(C26="","",IFERROR(VLOOKUP(C26,Cadastro!$A$5:$B$34,2,FALSE),0)) | G26: =IF(OR(C26="",D26=""),"",D26*E26*(1-N(F26)))
E27: =IF(C27="","",IFERROR(VLOOKUP(C27,Cadastro!$A$5:$B$34,2,FALSE),0)) | G27: =IF(OR(C27="",D27=""),"",D27*E27*(1-N(F27)))
E28: =IF(C28="","",IFERROR(VLOOKUP(C28,Cadastro!$A$5:$B$34,2,FALSE),0)) | G28: =IF(OR(C28="",D28=""),"",D28*E28*(1-N(F28)))
... E504: =IF(C504="","",IFERROR(VLOOKUP(C504,Cadastro!$A$5:$B$34,2,FALSE),0)) | G504: =IF(OR(C504="",D504=""),"",D504*E504*(1-N(F504)))

Sheet Resumo
A1: Resumo de vendas
A2: Digite o mês e o ano. Os totais por vendedor, produto e mês vêm da aba Vendas.
A3: Mês de referência | B3: 3 | C3: Ano | D3: 2027
A5: Vendedor | B5: Vendido no mês (R$) | C5: Meta (R$) | D5: % da meta | F5: Produto | G5: Quantidade no mês | H5: Total no mês (R$)
A6: =IF(Cadastro!D5="","",Cadastro!D5) -> Ana | B6: =IF(A6="","",SUMIFS(Vendas!$G$5:$G$504,Vendas!$B$5:$B$504,A6,Vendas!$A$5:$A$504,">="&DATE($D$3,$B$3,1),Vendas!$A$5:$A$504,"<"&DATE($D$3,$B$3+1,1))) -> 1102.22 | C6: =IF(A6="","",Cadastro!E5) -> 6000 | D6: =IF(OR(A6="",N(C6)=0),"",B6/C6) -> 0.18370333 | F6: =IF(Cadastro!A5="","",Cadastro!A5) -> Camiseta básica | G6: =IF(F6="","",SUMIFS(Vendas!$D$5:$D$504,Vendas!$C$5:$C$504,F6,Vendas!$A$5:$A$504,">="&DATE($D$3,$B$3,1),Vendas!$A$5:$A$504,"<"&DATE($D$3,$B$3+1,1))) -> 8 | H6: =IF(F6="","",SUMIFS(Vendas!$G$5:$G$504,Vendas!$C$5:$C$504,F6,Vendas!$A$5:$A$504,">="&DATE($D$3,$B$3,1),Vendas!$A$5:$A$504,"<"&DATE($D$3,$B$3+1,1))) -> 399.2
A7: =IF(Cadastro!D6="","",Cadastro!D6) -> Bruno | B7: =IF(A7="","",SUMIFS(Vendas!$G$5:$G$504,Vendas!$B$5:$B$504,A7,Vendas!$A$5:$A$504,">="&DATE($D$3,$B$3,1),Vendas!$A$5:$A$504,"<"&DATE($D$3,$B$3+1,1))) -> 821.71 | C7: =IF(A7="","",Cadastro!E6) -> 6000 | D7: =IF(OR(A7="",N(C7)=0),"",B7/C7) -> 0.13695167 | F7: =IF(Cadastro!A6="","",Cadastro!A6) -> Calça jeans | G7: =IF(F7="","",SUMIFS(Vendas!$D$5:$D$504,Vendas!$C$5:$C$504,F7,Vendas!$A$5:$A$504,">="&DATE($D$3,$B$3,1),Vendas!$A$5:$A$504,"<"&DATE($D$3,$B$3+1,1))) -> 7 | H7: =IF(F7="","",SUMIFS(Vendas!$G$5:$G$504,Vendas!$C$5:$C$504,F7,Vendas!$A$5:$A$504,">="&DATE($D$3,$B$3,1),Vendas!$A$5:$A$504,"<"&DATE($D$3,$B$3+1,1))) -> 965.31
A8: =IF(Cadastro!D7="","",Cadastro!D7) -> Carla | B8: =IF(A8="","",SUMIFS(Vendas!$G$5:$G$504,Vendas!$B$5:$B$504,A8,Vendas!$A$5:$A$504,">="&DATE($D$3,$B$3,1),Vendas!$A$5:$A$504,"<"&DATE($D$3,$B$3+1,1))) -> 714.86 | C8: =IF(A8="","",Cadastro!E7) -> 5000 | D8: =IF(OR(A8="",N(C8)=0),"",B8/C8) -> 0.142972 | F8: =IF(Cadastro!A7="","",Cadastro!A7) -> Tênis esportivo | G8: =IF(F8="","",SUMIFS(Vendas!$D$5:$D$504,Vendas!$C$5:$C$504,F8,Vendas!$A$5:$A$504,">="&DATE($D$3,$B$3,1),Vendas!$A$5:$A$504,"<"&DATE($D$3,$B$3+1,1))) -> 3 | H8: =IF(F8="","",SUMIFS(Vendas!$G$5:$G$504,Vendas!$C$5:$C$504,F8,Vendas!$A$5:$A$504,">="&DATE($D$3,$B$3,1),Vendas!$A$5:$A$504,"<"&DATE($D$3,$B$3+1,1))) -> 724.71
A9: =IF(Cadastro!D8="","",Cadastro!D8) -> Diego | B9: =IF(A9="","",SUMIFS(Vendas!$G$5:$G$504,Vendas!$B$5:$B$504,A9,Vendas!$A$5:$A$504,">="&DATE($D$3,$B$3,1),Vendas!$A$5:$A$504,"<"&DATE($D$3,$B$3+1,1))) -> 579.3 | C9: =IF(A9="","",Cadastro!E8) -> 5000 | D9: =IF(OR(A9="",N(C9)=0),"",B9/C9) -> 0.11586 | F9: =IF(Cadastro!A8="","",Cadastro!A8) -> Boné | G9: =IF(F9="","",SUMIFS(Vendas!$D$5:$D$504,Vendas!$C$5:$C$504,F9,Vendas!$A$5:$A$504,">="&DATE($D$3,$B$3,1),Vendas!$A$5:$A$504,"<"&DATE($D$3,$B$3+1,1))) -> 10 | H9: =IF(F9="","",SUMIFS(Vendas!$G$5:$G$504,Vendas!$C$5:$C$504,F9,Vendas!$A$5:$A$504,">="&DATE($D$3,$B$3,1),Vendas!$A$5:$A$504,"<"&DATE($D$3,$B$3+1,1))) -> 375.06
A10: =IF(Cadastro!D9="","",Cadastro!D9) | B10: =IF(A10="","",SUMIFS(Vendas!$G$5:$G$504,Vendas!$B$5:$B$504,A10,Vendas!$A$5:$A$504,">="&DATE($D$3,$B$3,1),Vendas!$A$5:$A$504,"<"&DATE($D$3,$B$3+1,1))) | C10: =IF(A10="","",Cadastro!E9) | D10: =IF(OR(A10="",N(C10)=0),"",B10/C10) | F10: =IF(Cadastro!A9="","",Cadastro!A9) -> Jaqueta | G10: =IF(F10="","",SUMIFS(Vendas!$D$5:$D$504,Vendas!$C$5:$C$504,F10,Vendas!$A$5:$A$504,">="&DATE($D$3,$B$3,1),Vendas!$A$5:$A$504,"<"&DATE($D$3,$B$3+1,1))) -> 3 | H10: =IF(F10="","",SUMIFS(Vendas!$G$5:$G$504,Vendas!$C$5:$C$504,F10,Vendas!$A$5:$A$504,">="&DATE($D$3,$B$3,1),Vendas!$A$5:$A$504,"<"&DATE($D$3,$B$3+1,1))) -> 637.71
A11: =IF(Cadastro!D10="","",Cadastro!D10) | B11: =IF(A11="","",SUMIFS(Vendas!$G$5:$G$504,Vendas!$B$5:$B$504,A11,Vendas!$A$5:$A$504,">="&DATE($D$3,$B$3,1),Vendas!$A$5:$A$504,"<"&DATE($D$3,$B$3+1,1))) | C11: =IF(A11="","",Cadastro!E10) | D11: =IF(OR(A11="",N(C11)=0),"",B11/C11) | F11: =IF(Cadastro!A10="","",Cadastro!A10) -> Meia (par) | G11: =IF(F11="","",SUMIFS(Vendas!$D$5:$D$504,Vendas!$C$5:$C$504,F11,Vendas!$A$5:$A$504,">="&DATE($D$3,$B$3,1),Vendas!$A$5:$A$504,"<"&DATE($D$3,$B$3+1,1))) -> 10 | H11: =IF(F11="","",SUMIFS(Vendas!$G$5:$G$504,Vendas!$C$5:$C$504,F11,Vendas!$A$5:$A$504,">="&DATE($D$3,$B$3,1),Vendas!$A$5:$A$504,"<"&DATE($D$3,$B$3+1,1))) -> 116.1
A12: =IF(Cadastro!D11="","",Cadastro!D11) | B12: =IF(A12="","",SUMIFS(Vendas!$G$5:$G$504,Vendas!$B$5:$B$504,A12,Vendas!$A$5:$A$504,">="&DATE($D$3,$B$3,1),Vendas!$A$5:$A$504,"<"&DATE($D$3,$B$3+1,1))) | C12: =IF(A12="","",Cadastro!E11) | D12: =IF(OR(A12="",N(C12)=0),"",B12/C12) | F12: =IF(Cadastro!A11="","",Cadastro!A11) | G12: =IF(F12="","",SUMIFS(Vendas!$D$5:$D$504,Vendas!$C$5:$C$504,F12,Vendas!$A$5:$A$504,">="&DATE($D$3,$B$3,1),Vendas!$A$5:$A$504,"<"&DATE($D$3,$B$3+1,1))) | H12: =IF(F12="","",SUMIFS(Vendas!$G$5:$G$504,Vendas!$C$5:$C$504,F12,Vendas!$A$5:$A$504,">="&DATE($D$3,$B$3,1),Vendas!$A$5:$A$504,"<"&DATE($D$3,$B$3+1,1)))
A13: =IF(Cadastro!D12="","",Cadastro!D12) | B13: =IF(A13="","",SUMIFS(Vendas!$G$5:$G$504,Vendas!$B$5:$B$504,A13,Vendas!$A$5:$A$504,">="&DATE($D$3,$B$3,1),Vendas!$A$5:$A$504,"<"&DATE($D$3,$B$3+1,1))) | C13: =IF(A13="","",Cadastro!E12) | D13: =IF(OR(A13="",N(C13)=0),"",B13/C13) | F13: =IF(Cadastro!A12="","",Cadastro!A12) | G13: =IF(F13="","",SUMIFS(Vendas!$D$5:$D$504,Vendas!$C$5:$C$504,F13,Vendas!$A$5:$A$504,">="&DATE($D$3,$B$3,1),Vendas!$A$5:$A$504,"<"&DATE($D$3,$B$3+1,1))) | H13: =IF(F13="","",SUMIFS(Vendas!$G$5:$G$504,Vendas!$C$5:$C$504,F13,Vendas!$A$5:$A$504,">="&DATE($D$3,$B$3,1),Vendas!$A$5:$A$504,"<"&DATE($D$3,$B$3+1,1)))
A14: =IF(Cadastro!D13="","",Cadastro!D13) | B14: =IF(A14="","",SUMIFS(Vendas!$G$5:$G$504,Vendas!$B$5:$B$504,A14,Vendas!$A$5:$A$504,">="&DATE($D$3,$B$3,1),Vendas!$A$5:$A$504,"<"&DATE($D$3,$B$3+1,1))) | C14: =IF(A14="","",Cadastro!E13) | D14: =IF(OR(A14="",N(C14)=0),"",B14/C14) | F14: =IF(Cadastro!A13="","",Cadastro!A13) | G14: =IF(F14="","",SUMIFS(Vendas!$D$5:$D$504,Vendas!$C$5:$C$504,F14,Vendas!$A$5:$A$504,">="&DATE($D$3,$B$3,1),Vendas!$A$5:$A$504,"<"&DATE($D$3,$B$3+1,1))) | H14: =IF(F14="","",SUMIFS(Vendas!$G$5:$G$504,Vendas!$C$5:$C$504,F14,Vendas!$A$5:$A$504,">="&DATE($D$3,$B$3,1),Vendas!$A$5:$A$504,"<"&DATE($D$3,$B$3+1,1)))
A15: =IF(Cadastro!D14="","",Cadastro!D14) | B15: =IF(A15="","",SUMIFS(Vendas!$G$5:$G$504,Vendas!$B$5:$B$504,A15,Vendas!$A$5:$A$504,">="&DATE($D$3,$B$3,1),Vendas!$A$5:$A$504,"<"&DATE($D$3,$B$3+1,1))) | C15: =IF(A15="","",Cadastro!E14) | D15: =IF(OR(A15="",N(C15)=0),"",B15/C15) | F15: =IF(Cadastro!A14="","",Cadastro!A14) | G15: =IF(F15="","",SUMIFS(Vendas!$D$5:$D$504,Vendas!$C$5:$C$504,F15,Vendas!$A$5:$A$504,">="&DATE($D$3,$B$3,1),Vendas!$A$5:$A$504,"<"&DATE($D$3,$B$3+1,1))) | H15: =IF(F15="","",SUMIFS(Vendas!$G$5:$G$504,Vendas!$C$5:$C$504,F15,Vendas!$A$5:$A$504,">="&DATE($D$3,$B$3,1),Vendas!$A$5:$A$504,"<"&DATE($D$3,$B$3+1,1)))
A16: =IF(Cadastro!D15="","",Cadastro!D15) | B16: =IF(A16="","",SUMIFS(Vendas!$G$5:$G$504,Vendas!$B$5:$B$504,A16,Vendas!$A$5:$A$504,">="&DATE($D$3,$B$3,1),Vendas!$A$5:$A$504,"<"&DATE($D$3,$B$3+1,1))) | C16: =IF(A16="","",Cadastro!E15) | D16: =IF(OR(A16="",N(C16)=0),"",B16/C16) | F16: =IF(Cadastro!A15="","",Cadastro!A15) | G16: =IF(F16="","",SUMIFS(Vendas!$D$5:$D$504,Vendas!$C$5:$C$504,F16,Vendas!$A$5:$A$504,">="&DATE($D$3,$B$3,1),Vendas!$A$5:$A$504,"<"&DATE($D$3,$B$3+1,1))) | H16: =IF(F16="","",SUMIFS(Vendas!$G$5:$G$504,Vendas!$C$5:$C$504,F16,Vendas!$A$5:$A$504,">="&DATE($D$3,$B$3,1),Vendas!$A$5:$A$504,"<"&DATE($D$3,$B$3+1,1)))
A17: =IF(Cadastro!D16="","",Cadastro!D16) | B17: =IF(A17="","",SUMIFS(Vendas!$G$5:$G$504,Vendas!$B$5:$B$504,A17,Vendas!$A$5:$A$504,">="&DATE($D$3,$B$3,1),Vendas!$A$5:$A$504,"<"&DATE($D$3,$B$3+1,1))) | C17: =IF(A17="","",Cadastro!E16) | D17: =IF(OR(A17="",N(C17)=0),"",B17/C17) | F17: =IF(Cadastro!A16="","",Cadastro!A16) | G17: =IF(F17="","",SUMIFS(Vendas!$D$5:$D$504,Vendas!$C$5:$C$504,F17,Vendas!$A$5:$A$504,">="&DATE($D$3,$B$3,1),Vendas!$A$5:$A$504,"<"&DATE($D$3,$B$3+1,1))) | H17: =IF(F17="","",SUMIFS(Vendas!$G$5:$G$504,Vendas!$C$5:$C$504,F17,Vendas!$A$5:$A$504,">="&DATE($D$3,$B$3,1),Vendas!$A$5:$A$504,"<"&DATE($D$3,$B$3+1,1)))
A18: Total | B18: =SUM(B6:B17) -> 3218.09 | C18: =SUM(C6:C17) -> 22000 | D18: =IF(C18=0,"",B18/C18) -> 0.14627682
A21: Vendas por mês no ano
A22: Mês | B22: Total vendido (R$) | C22: Nº de vendas
A23: Janeiro | B23: =SUMIFS(Vendas!$G$5:$G$504,Vendas!$A$5:$A$504,">="&DATE($D$3,1,1),Vendas!$A$5:$A$504,"<"&DATE($D$3,2,1)) -> 0 | C23: =COUNTIFS(Vendas!$A$5:$A$504,">="&DATE($D$3,1,1),Vendas!$A$5:$A$504,"<"&DATE($D$3,2,1)) -> 0
A24: Fevereiro | B24: =SUMIFS(Vendas!$G$5:$G$504,Vendas!$A$5:$A$504,">="&DATE($D$3,2,1),Vendas!$A$5:$A$504,"<"&DATE($D$3,3,1)) -> 0 | C24: =COUNTIFS(Vendas!$A$5:$A$504,">="&DATE($D$3,2,1),Vendas!$A$5:$A$504,"<"&DATE($D$3,3,1)) -> 0
A25: Março | B25: =SUMIFS(Vendas!$G$5:$G$504,Vendas!$A$5:$A$504,">="&DATE($D$3,3,1),Vendas!$A$5:$A$504,"<"&DATE($D$3,4,1)) -> 3218.09 | C25: =COUNTIFS(Vendas!$A$5:$A$504,">="&DATE($D$3,3,1),Vendas!$A$5:$A$504,"<"&DATE($D$3,4,1)) -> 12
A26: Abril | B26: =SUMIFS(Vendas!$G$5:$G$504,Vendas!$A$5:$A$504,">="&DATE($D$3,4,1),Vendas!$A$5:$A$504,"<"&DATE($D$3,5,1)) -> 0 | C26: =COUNTIFS(Vendas!$A$5:$A$504,">="&DATE($D$3,4,1),Vendas!$A$5:$A$504,"<"&DATE($D$3,5,1)) -> 0
A27: Maio | B27: =SUMIFS(Vendas!$G$5:$G$504,Vendas!$A$5:$A$504,">="&DATE($D$3,5,1),Vendas!$A$5:$A$504,"<"&DATE($D$3,6,1)) -> 0 | C27: =COUNTIFS(Vendas!$A$5:$A$504,">="&DATE($D$3,5,1),Vendas!$A$5:$A$504,"<"&DATE($D$3,6,1)) -> 0
A28: Junho | B28: =SUMIFS(Vendas!$G$5:$G$504,Vendas!$A$5:$A$504,">="&DATE($D$3,6,1),Vendas!$A$5:$A$504,"<"&DATE($D$3,7,1)) -> 0 | C28: =COUNTIFS(Vendas!$A$5:$A$504,">="&DATE($D$3,6,1),Vendas!$A$5:$A$504,"<"&DATE($D$3,7,1)) -> 0
A29: Julho | B29: =SUMIFS(Vendas!$G$5:$G$504,Vendas!$A$5:$A$504,">="&DATE($D$3,7,1),Vendas!$A$5:$A$504,"<"&DATE($D$3,8,1)) -> 0 | C29: =COUNTIFS(Vendas!$A$5:$A$504,">="&DATE($D$3,7,1),Vendas!$A$5:$A$504,"<"&DATE($D$3,8,1)) -> 0
A30: Agosto | B30: =SUMIFS(Vendas!$G$5:$G$504,Vendas!$A$5:$A$504,">="&DATE($D$3,8,1),Vendas!$A$5:$A$504,"<"&DATE($D$3,9,1)) -> 0 | C30: =COUNTIFS(Vendas!$A$5:$A$504,">="&DATE($D$3,8,1),Vendas!$A$5:$A$504,"<"&DATE($D$3,9,1)) -> 0
A31: Setembro | B31: =SUMIFS(Vendas!$G$5:$G$504,Vendas!$A$5:$A$504,">="&DATE($D$3,9,1),Vendas!$A$5:$A$504,"<"&DATE($D$3,10,1)) -> 0 | C31: =COUNTIFS(Vendas!$A$5:$A$504,">="&DATE($D$3,9,1),Vendas!$A$5:$A$504,"<"&DATE($D$3,10,1)) -> 0
A32: Outubro | B32: =SUMIFS(Vendas!$G$5:$G$504,Vendas!$A$5:$A$504,">="&DATE($D$3,10,1),Vendas!$A$5:$A$504,"<"&DATE($D$3,11,1)) -> 0 | C32: =COUNTIFS(Vendas!$A$5:$A$504,">="&DATE($D$3,10,1),Vendas!$A$5:$A$504,"<"&DATE($D$3,11,1)) -> 0
A33: Novembro | B33: =SUMIFS(Vendas!$G$5:$G$504,Vendas!$A$5:$A$504,">="&DATE($D$3,11,1),Vendas!$A$5:$A$504,"<"&DATE($D$3,12,1)) -> 0 | C33: =COUNTIFS(Vendas!$A$5:$A$504,">="&DATE($D$3,11,1),Vendas!$A$5:$A$504,"<"&DATE($D$3,12,1)) -> 0
A34: Dezembro | B34: =SUMIFS(Vendas!$G$5:$G$504,Vendas!$A$5:$A$504,">="&DATE($D$3,12,1),Vendas!$A$5:$A$504,"<"&DATE($D$3,13,1)) -> 0 | C34: =COUNTIFS(Vendas!$A$5:$A$504,">="&DATE($D$3,12,1),Vendas!$A$5:$A$504,"<"&DATE($D$3,13,1)) -> 0
A35: Ano | B35: =SUM(B23:B34) -> 3218.09 | C35: =SUM(C23:C34) -> 12

Sheet Como usar
A1: Como usar
A3: 1 | B3: Na aba Cadastro, liste seus produtos com preço e seus vendedores com a meta mensal.
A4: 2 | B4: Na aba Vendas, escolha vendedor e produto nas listas e digite a quantidade; o preço unitário e o total aparecem sozinhos.
A5: 3 | B5: O desconto é opcional: digite 10% para uma venda com 10% de desconto.
A6: 4 | B6: Na aba Resumo, escolha mês e ano para ver o total por vendedor (com percentual da meta), por produto e a série do ano.
A7: 5 | B7: Se mudar o preço de um produto no Cadastro, as vendas antigas passam a usar o novo preço. Para guardar o histórico, salve uma cópia por mês.
B9: Modelo gratuito do Excel na prática (baixarexcel.com.br/modelos/). Pode usar, editar e compartilhar.
