Workbook

Sheet Orçamento
A1: Orçamento da viagem
A2: Preencha o resumo da viagem e o previsto por categoria. Durante a viagem, lance o gasto real.
A3: Destino | B3: Lisboa, Portugal
A4: Ida | B4: 46640 | C4: Volta | D4: 46650
A5: Nº de pessoas | B5: 2 | C5: Dias | D5: =IF(OR(B4="",D4=""),"",D4-B4+1) -> 11
A6: Cotação da moeda (R$ por 1 unidade) | B6: 6 | C6: Moeda | D6: EUR
A8: Categoria | B8: Previsto (R$) | C8: Real (R$) | D8: Diferença (R$) | E8: Previsto por pessoa | F8: Previsto por dia | G8: Previsto em moeda do destino
A9: Passagens aéreas | B9: 7200 | C9: 7480 | D9: =IF(OR(A9="",C9=""),"",B9-C9) -> -280 | E9: =IF(OR(A9="",N($B$5)=0),"",B9/$B$5) -> 3600 | F9: =IF(OR(A9="",N($D$5)=0),"",B9/$D$5) -> 654.54545 | G9: =IF(OR(A9="",N($B$6)=0),"",B9/$B$6) -> 1200
A10: Hospedagem | B10: 4400 | C10: 4390 | D10: =IF(OR(A10="",C10=""),"",B10-C10) -> 10 | E10: =IF(OR(A10="",N($B$5)=0),"",B10/$B$5) -> 2200 | F10: =IF(OR(A10="",N($D$5)=0),"",B10/$D$5) -> 400 | G10: =IF(OR(A10="",N($B$6)=0),"",B10/$B$6) -> 733.33333
A11: Alimentação | B11: 2600 | C11: 2310 | D11: =IF(OR(A11="",C11=""),"",B11-C11) -> 290 | E11: =IF(OR(A11="",N($B$5)=0),"",B11/$B$5) -> 1300 | F11: =IF(OR(A11="",N($D$5)=0),"",B11/$D$5) -> 236.36364 | G11: =IF(OR(A11="",N($B$6)=0),"",B11/$B$6) -> 433.33333
A12: Transporte local | B12: 700 | C12: 655 | D12: =IF(OR(A12="",C12=""),"",B12-C12) -> 45 | E12: =IF(OR(A12="",N($B$5)=0),"",B12/$B$5) -> 350 | F12: =IF(OR(A12="",N($D$5)=0),"",B12/$D$5) -> 63.636364 | G12: =IF(OR(A12="",N($B$6)=0),"",B12/$B$6) -> 116.66667
A13: Passeios e ingressos | B13: 1500 | C13: 1720 | D13: =IF(OR(A13="",C13=""),"",B13-C13) -> -220 | E13: =IF(OR(A13="",N($B$5)=0),"",B13/$B$5) -> 750 | F13: =IF(OR(A13="",N($D$5)=0),"",B13/$D$5) -> 136.36364 | G13: =IF(OR(A13="",N($B$6)=0),"",B13/$B$6) -> 250
A14: Seguro viagem | B14: 420 | C14: 420 | D14: =IF(OR(A14="",C14=""),"",B14-C14) -> 0 | E14: =IF(OR(A14="",N($B$5)=0),"",B14/$B$5) -> 210 | F14: =IF(OR(A14="",N($D$5)=0),"",B14/$D$5) -> 38.181818 | G14: =IF(OR(A14="",N($B$6)=0),"",B14/$B$6) -> 70
A15: Compras e lembranças | B15: 1200 | D15: =IF(OR(A15="",C15=""),"",B15-C15) | E15: =IF(OR(A15="",N($B$5)=0),"",B15/$B$5) -> 600 | F15: =IF(OR(A15="",N($D$5)=0),"",B15/$D$5) -> 109.09091 | G15: =IF(OR(A15="",N($B$6)=0),"",B15/$B$6) -> 200
A16: Reserva para imprevistos | B16: 800 | D16: =IF(OR(A16="",C16=""),"",B16-C16) | E16: =IF(OR(A16="",N($B$5)=0),"",B16/$B$5) -> 400 | F16: =IF(OR(A16="",N($D$5)=0),"",B16/$D$5) -> 72.727273 | G16: =IF(OR(A16="",N($B$6)=0),"",B16/$B$6) -> 133.33333
D17: =IF(OR(A17="",C17=""),"",B17-C17) | E17: =IF(OR(A17="",N($B$5)=0),"",B17/$B$5) | F17: =IF(OR(A17="",N($D$5)=0),"",B17/$D$5) | G17: =IF(OR(A17="",N($B$6)=0),"",B17/$B$6)
D18: =IF(OR(A18="",C18=""),"",B18-C18) | E18: =IF(OR(A18="",N($B$5)=0),"",B18/$B$5) | F18: =IF(OR(A18="",N($D$5)=0),"",B18/$D$5) | G18: =IF(OR(A18="",N($B$6)=0),"",B18/$B$6)
D19: =IF(OR(A19="",C19=""),"",B19-C19) | E19: =IF(OR(A19="",N($B$5)=0),"",B19/$B$5) | F19: =IF(OR(A19="",N($D$5)=0),"",B19/$D$5) | G19: =IF(OR(A19="",N($B$6)=0),"",B19/$B$6)
D20: =IF(OR(A20="",C20=""),"",B20-C20) | E20: =IF(OR(A20="",N($B$5)=0),"",B20/$B$5) | F20: =IF(OR(A20="",N($D$5)=0),"",B20/$D$5) | G20: =IF(OR(A20="",N($B$6)=0),"",B20/$B$6)
A21: Total | B21: =SUM(B9:B20) -> 18820 | C21: =SUM(C9:C20) -> 16975 | D21: =SUMPRODUCT((C9:C20<>"")*B9:B20)-C21 -> -155 | E21: =IF(N($B$5)=0,"",B21/$B$5) -> 9410 | F21: =IF(N($D$5)=0,"",B21/$D$5) -> 1710.9091 | G21: =IF(N($B$6)=0,"",B21/$B$6) -> 3136.6667
A23: Diferença: positivo = gastou menos que o previsto nas linhas já preenchidas; negativo = estourou. Total da diferença compara só as categorias com valor real lançado.

Sheet Roteiro
A1: Roteiro dia a dia
A2: As datas se calculam a partir da ida. Escreva o plano de cada dia e o que já está reservado.
A4: Dia | B4: Data | C4: Dia da semana | D4: Cidade | E4: Manhã | F4: Tarde | G4: Noite | H4: Reserva confirmada? | I4: Custo do dia (R$)
A5: =IF(AND('Orçamento'!$B$4<>"",'Orçamento'!$D$5<>"",1<='Orçamento'!$D$5),1,"") -> 1 | B5: =IF(A5="","",'Orçamento'!$B$4+A5-1) -> 46640 | C5: =IF(B5="","",CHOOSE(WEEKDAY(B5,1),"domingo","segunda","terça","quarta","quinta","sexta","sábado")) -> sexta | D5: Lisboa | E5: Chegada e check-in | F5: Passeio no bairro de Alfama | G5: Jantar com fado | H5: Sim | I5: 220
A6: =IF(AND('Orçamento'!$B$4<>"",'Orçamento'!$D$5<>"",2<='Orçamento'!$D$5),2,"") -> 2 | B6: =IF(A6="","",'Orçamento'!$B$4+A6-1) -> 46641 | C6: =IF(B6="","",CHOOSE(WEEKDAY(B6,1),"domingo","segunda","terça","quarta","quinta","sexta","sábado")) -> sábado | D6: Lisboa | E6: Torre de Belém | F6: Mosteiro dos Jerónimos | G6: Jantar livre | H6: Sim | I6: 180
A7: =IF(AND('Orçamento'!$B$4<>"",'Orçamento'!$D$5<>"",3<='Orçamento'!$D$5),3,"") -> 3 | B7: =IF(A7="","",'Orçamento'!$B$4+A7-1) -> 46642 | C7: =IF(B7="","",CHOOSE(WEEKDAY(B7,1),"domingo","segunda","terça","quarta","quinta","sexta","sábado")) -> domingo | D7: Sintra | E7: Palácio da Pena | F7: Quinta da Regaleira | G7: Volta a Lisboa | H7: Não | I7: 260
A8: =IF(AND('Orçamento'!$B$4<>"",'Orçamento'!$D$5<>"",4<='Orçamento'!$D$5),4,"") -> 4 | B8: =IF(A8="","",'Orçamento'!$B$4+A8-1) -> 46643 | C8: =IF(B8="","",CHOOSE(WEEKDAY(B8,1),"domingo","segunda","terça","quarta","quinta","sexta","sábado")) -> segunda | D8: Lisboa | E8: Museu do Azulejo | F8: Feira da Ladra | G8: Mirantes | I8: 110
A9: =IF(AND('Orçamento'!$B$4<>"",'Orçamento'!$D$5<>"",5<='Orçamento'!$D$5),5,"") -> 5 | B9: =IF(A9="","",'Orçamento'!$B$4+A9-1) -> 46644 | C9: =IF(B9="","",CHOOSE(WEEKDAY(B9,1),"domingo","segunda","terça","quarta","quinta","sexta","sábado")) -> terça
A10: =IF(AND('Orçamento'!$B$4<>"",'Orçamento'!$D$5<>"",6<='Orçamento'!$D$5),6,"") -> 6 | B10: =IF(A10="","",'Orçamento'!$B$4+A10-1) -> 46645 | C10: =IF(B10="","",CHOOSE(WEEKDAY(B10,1),"domingo","segunda","terça","quarta","quinta","sexta","sábado")) -> quarta
A11: =IF(AND('Orçamento'!$B$4<>"",'Orçamento'!$D$5<>"",7<='Orçamento'!$D$5),7,"") -> 7 | B11: =IF(A11="","",'Orçamento'!$B$4+A11-1) -> 46646 | C11: =IF(B11="","",CHOOSE(WEEKDAY(B11,1),"domingo","segunda","terça","quarta","quinta","sexta","sábado")) -> quinta
A12: =IF(AND('Orçamento'!$B$4<>"",'Orçamento'!$D$5<>"",8<='Orçamento'!$D$5),8,"") -> 8 | B12: =IF(A12="","",'Orçamento'!$B$4+A12-1) -> 46647 | C12: =IF(B12="","",CHOOSE(WEEKDAY(B12,1),"domingo","segunda","terça","quarta","quinta","sexta","sábado")) -> sexta
A13: =IF(AND('Orçamento'!$B$4<>"",'Orçamento'!$D$5<>"",9<='Orçamento'!$D$5),9,"") -> 9 | B13: =IF(A13="","",'Orçamento'!$B$4+A13-1) -> 46648 | C13: =IF(B13="","",CHOOSE(WEEKDAY(B13,1),"domingo","segunda","terça","quarta","quinta","sexta","sábado")) -> sábado
A14: =IF(AND('Orçamento'!$B$4<>"",'Orçamento'!$D$5<>"",10<='Orçamento'!$D$5),10,"") -> 10 | B14: =IF(A14="","",'Orçamento'!$B$4+A14-1) -> 46649 | C14: =IF(B14="","",CHOOSE(WEEKDAY(B14,1),"domingo","segunda","terça","quarta","quinta","sexta","sábado")) -> domingo
A15: =IF(AND('Orçamento'!$B$4<>"",'Orçamento'!$D$5<>"",11<='Orçamento'!$D$5),11,"") -> 11 | B15: =IF(A15="","",'Orçamento'!$B$4+A15-1) -> 46650 | C15: =IF(B15="","",CHOOSE(WEEKDAY(B15,1),"domingo","segunda","terça","quarta","quinta","sexta","sábado")) -> segunda
A16: =IF(AND('Orçamento'!$B$4<>"",'Orçamento'!$D$5<>"",12<='Orçamento'!$D$5),12,"") | B16: =IF(A16="","",'Orçamento'!$B$4+A16-1) | C16: =IF(B16="","",CHOOSE(WEEKDAY(B16,1),"domingo","segunda","terça","quarta","quinta","sexta","sábado"))
A17: =IF(AND('Orçamento'!$B$4<>"",'Orçamento'!$D$5<>"",13<='Orçamento'!$D$5),13,"") | B17: =IF(A17="","",'Orçamento'!$B$4+A17-1) | C17: =IF(B17="","",CHOOSE(WEEKDAY(B17,1),"domingo","segunda","terça","quarta","quinta","sexta","sábado"))
A18: =IF(AND('Orçamento'!$B$4<>"",'Orçamento'!$D$5<>"",14<='Orçamento'!$D$5),14,"") | B18: =IF(A18="","",'Orçamento'!$B$4+A18-1) | C18: =IF(B18="","",CHOOSE(WEEKDAY(B18,1),"domingo","segunda","terça","quarta","quinta","sexta","sábado"))
A19: =IF(AND('Orçamento'!$B$4<>"",'Orçamento'!$D$5<>"",15<='Orçamento'!$D$5),15,"") | B19: =IF(A19="","",'Orçamento'!$B$4+A19-1) | C19: =IF(B19="","",CHOOSE(WEEKDAY(B19,1),"domingo","segunda","terça","quarta","quinta","sexta","sábado"))
A20: =IF(AND('Orçamento'!$B$4<>"",'Orçamento'!$D$5<>"",16<='Orçamento'!$D$5),16,"") | B20: =IF(A20="","",'Orçamento'!$B$4+A20-1) | C20: =IF(B20="","",CHOOSE(WEEKDAY(B20,1),"domingo","segunda","terça","quarta","quinta","sexta","sábado"))
A21: =IF(AND('Orçamento'!$B$4<>"",'Orçamento'!$D$5<>"",17<='Orçamento'!$D$5),17,"") | B21: =IF(A21="","",'Orçamento'!$B$4+A21-1) | C21: =IF(B21="","",CHOOSE(WEEKDAY(B21,1),"domingo","segunda","terça","quarta","quinta","sexta","sábado"))
A22: =IF(AND('Orçamento'!$B$4<>"",'Orçamento'!$D$5<>"",18<='Orçamento'!$D$5),18,"") | B22: =IF(A22="","",'Orçamento'!$B$4+A22-1) | C22: =IF(B22="","",CHOOSE(WEEKDAY(B22,1),"domingo","segunda","terça","quarta","quinta","sexta","sábado"))
A23: =IF(AND('Orçamento'!$B$4<>"",'Orçamento'!$D$5<>"",19<='Orçamento'!$D$5),19,"") | B23: =IF(A23="","",'Orçamento'!$B$4+A23-1) | C23: =IF(B23="","",CHOOSE(WEEKDAY(B23,1),"domingo","segunda","terça","quarta","quinta","sexta","sábado"))
A24: =IF(AND('Orçamento'!$B$4<>"",'Orçamento'!$D$5<>"",20<='Orçamento'!$D$5),20,"") | B24: =IF(A24="","",'Orçamento'!$B$4+A24-1) | C24: =IF(B24="","",CHOOSE(WEEKDAY(B24,1),"domingo","segunda","terça","quarta","quinta","sexta","sábado"))
A25: =IF(AND('Orçamento'!$B$4<>"",'Orçamento'!$D$5<>"",21<='Orçamento'!$D$5),21,"") | B25: =IF(A25="","",'Orçamento'!$B$4+A25-1) | C25: =IF(B25="","",CHOOSE(WEEKDAY(B25,1),"domingo","segunda","terça","quarta","quinta","sexta","sábado"))
A26: =IF(AND('Orçamento'!$B$4<>"",'Orçamento'!$D$5<>"",22<='Orçamento'!$D$5),22,"") | B26: =IF(A26="","",'Orçamento'!$B$4+A26-1) | C26: =IF(B26="","",CHOOSE(WEEKDAY(B26,1),"domingo","segunda","terça","quarta","quinta","sexta","sábado"))
A27: =IF(AND('Orçamento'!$B$4<>"",'Orçamento'!$D$5<>"",23<='Orçamento'!$D$5),23,"") | B27: =IF(A27="","",'Orçamento'!$B$4+A27-1) | C27: =IF(B27="","",CHOOSE(WEEKDAY(B27,1),"domingo","segunda","terça","quarta","quinta","sexta","sábado"))
A28: =IF(AND('Orçamento'!$B$4<>"",'Orçamento'!$D$5<>"",24<='Orçamento'!$D$5),24,"") | B28: =IF(A28="","",'Orçamento'!$B$4+A28-1) | C28: =IF(B28="","",CHOOSE(WEEKDAY(B28,1),"domingo","segunda","terça","quarta","quinta","sexta","sábado"))
A29: =IF(AND('Orçamento'!$B$4<>"",'Orçamento'!$D$5<>"",25<='Orçamento'!$D$5),25,"") | B29: =IF(A29="","",'Orçamento'!$B$4+A29-1) | C29: =IF(B29="","",CHOOSE(WEEKDAY(B29,1),"domingo","segunda","terça","quarta","quinta","sexta","sábado"))
A30: =IF(AND('Orçamento'!$B$4<>"",'Orçamento'!$D$5<>"",26<='Orçamento'!$D$5),26,"") | B30: =IF(A30="","",'Orçamento'!$B$4+A30-1) | C30: =IF(B30="","",CHOOSE(WEEKDAY(B30,1),"domingo","segunda","terça","quarta","quinta","sexta","sábado"))
A31: =IF(AND('Orçamento'!$B$4<>"",'Orçamento'!$D$5<>"",27<='Orçamento'!$D$5),27,"") | B31: =IF(A31="","",'Orçamento'!$B$4+A31-1) | C31: =IF(B31="","",CHOOSE(WEEKDAY(B31,1),"domingo","segunda","terça","quarta","quinta","sexta","sábado"))
A32: =IF(AND('Orçamento'!$B$4<>"",'Orçamento'!$D$5<>"",28<='Orçamento'!$D$5),28,"") | B32: =IF(A32="","",'Orçamento'!$B$4+A32-1) | C32: =IF(B32="","",CHOOSE(WEEKDAY(B32,1),"domingo","segunda","terça","quarta","quinta","sexta","sábado"))
A33: =IF(AND('Orçamento'!$B$4<>"",'Orçamento'!$D$5<>"",29<='Orçamento'!$D$5),29,"") | B33: =IF(A33="","",'Orçamento'!$B$4+A33-1) | C33: =IF(B33="","",CHOOSE(WEEKDAY(B33,1),"domingo","segunda","terça","quarta","quinta","sexta","sábado"))
A34: =IF(AND('Orçamento'!$B$4<>"",'Orçamento'!$D$5<>"",30<='Orçamento'!$D$5),30,"") | B34: =IF(A34="","",'Orçamento'!$B$4+A34-1) | C34: =IF(B34="","",CHOOSE(WEEKDAY(B34,1),"domingo","segunda","terça","quarta","quinta","sexta","sábado"))
H36: Total dos custos | I36: =SUM(I5:I34) -> 770

Sheet Checklist
A1: Checklist antes de viajar
A2: Marque Sim quando cumprir cada item. O progresso aparece no topo.
A3: Progresso | B3: =IF(COUNTA(A6:A35)=0,0,COUNTIF(B6:B35,"Sim")/COUNTA(A6:A35)) -> 0.33333333
A5: Item | B5: Feito? | C5: Prazo
A6: Passaporte ou documento válido | B6: Sim
A7: Passagens emitidas | B7: Sim
A8: Hospedagem reservada | B8: Sim
A9: Seguro viagem contratado | B9: Não
A10: Câmbio ou cartão internacional | B10: Não
A11: Chip ou roaming internacional | B11: Não
A12: Cópia digital dos documentos | B12: Não
A13: Roteiro compartilhado com quem fica | B13: Não
A14: Mala conferida | B14: Não

Sheet Como usar
A1: Como usar
A3: 1 | B3: Na aba Orçamento, escreva destino, datas de ida e volta, número de pessoas e a cotação da moeda do destino (digite o valor atual).
A4: 2 | B4: Liste as categorias de gasto com o valor previsto. Durante a viagem, preencha o valor real; a diferença é calculada.
A5: 3 | B5: As colunas por pessoa e por dia dividem o previsto pelo número de pessoas e pelos dias da viagem. A última coluna converte para a moeda do destino.
A6: 4 | B6: Na aba Roteiro, os dias e as datas aparecem sozinhos; preencha manhã, tarde, noite e o que já está reservado.
A7: 5 | B7: Na aba Checklist, marque o que já foi feito. O progresso mostra o percentual cumprido.
B9: Modelo gratuito do Excel na prática (baixarexcel.com.br/modelos/). Pode usar, editar e compartilhar.
