Workbook

Sheet Lista
A1: Lista de compras
A2: Digite o orçamento, liste os itens com a quantidade e o preço estimado. Ao comprar, marque Sim e digite o preço pago.
A3: Orçamento do mês (R$) | B3: 900 | D3: Estimado | E3: =SUM(F6:F105) -> 235.9 | G3: Pago | H3: =SUM(I6:I105) -> 114.8
A4: Orçamento restante | B4: =B3-IF(H3>0,H3,E3) -> 785.2 | D4: Itens pendentes | E4: =COUNTIF(G6:G105,"Não") -> 5
A5: Item | B5: Categoria | C5: Quantidade | D5: Unidade | E5: Preço estimado (un.) | F5: Total estimado | G5: Comprado? | H5: Preço pago (un.) | I5: Total pago
A6: Arroz | B6: Mercearia | C6: 2 | D6: kg | E6: 6.2 | F6: =IF(OR(C6="",E6=""),"",C6*E6) -> 12.4 | G6: Sim | H6: 6.5 | I6: =IF(OR(C6="",H6=""),"",C6*H6) -> 13
A7: Feijão | B7: Mercearia | C7: 2 | D7: kg | E7: 8.5 | F7: =IF(OR(C7="",E7=""),"",C7*E7) -> 17 | G7: Sim | H7: 8.9 | I7: =IF(OR(C7="",H7=""),"",C7*H7) -> 17.8
A8: Leite | B8: Laticínios | C8: 12 | D8: L | E8: 5.2 | F8: =IF(OR(C8="",E8=""),"",C8*E8) -> 62.4 | G8: Sim | H8: 5 | I8: =IF(OR(C8="",H8=""),"",C8*H8) -> 60
A9: Ovos | B9: Mercearia | C9: 2 | D9: dz | E9: 11 | F9: =IF(OR(C9="",E9=""),"",C9*E9) -> 22 | G9: Sim | H9: 12 | I9: =IF(OR(C9="",H9=""),"",C9*H9) -> 24
A10: Frango | B10: Carnes | C10: 3 | D10: kg | E10: 17 | F10: =IF(OR(C10="",E10=""),"",C10*E10) -> 51 | G10: Não | I10: =IF(OR(C10="",H10=""),"",C10*H10)
A11: Banana | B11: Hortifruti | C11: 3 | D11: kg | E11: 6.5 | F11: =IF(OR(C11="",E11=""),"",C11*E11) -> 19.5 | G11: Não | I11: =IF(OR(C11="",H11=""),"",C11*H11)
A12: Tomate | B12: Hortifruti | C12: 2 | D12: kg | E12: 8 | F12: =IF(OR(C12="",E12=""),"",C12*E12) -> 16 | G12: Não | I12: =IF(OR(C12="",H12=""),"",C12*H12)
A13: Detergente | B13: Limpeza | C13: 4 | D13: un | E13: 2.9 | F13: =IF(OR(C13="",E13=""),"",C13*E13) -> 11.6 | G13: Não | I13: =IF(OR(C13="",H13=""),"",C13*H13)
A14: Papel higiênico | B14: Higiene | C14: 1 | D14: pct | E14: 24 | F14: =IF(OR(C14="",E14=""),"",C14*E14) -> 24 | G14: Não | I14: =IF(OR(C14="",H14=""),"",C14*H14)
F15: =IF(OR(C15="",E15=""),"",C15*E15) | I15: =IF(OR(C15="",H15=""),"",C15*H15)
F16: =IF(OR(C16="",E16=""),"",C16*E16) | I16: =IF(OR(C16="",H16=""),"",C16*H16)
F17: =IF(OR(C17="",E17=""),"",C17*E17) | I17: =IF(OR(C17="",H17=""),"",C17*H17)
F18: =IF(OR(C18="",E18=""),"",C18*E18) | I18: =IF(OR(C18="",H18=""),"",C18*H18)
F19: =IF(OR(C19="",E19=""),"",C19*E19) | I19: =IF(OR(C19="",H19=""),"",C19*H19)
F20: =IF(OR(C20="",E20=""),"",C20*E20) | I20: =IF(OR(C20="",H20=""),"",C20*H20)
F21: =IF(OR(C21="",E21=""),"",C21*E21) | I21: =IF(OR(C21="",H21=""),"",C21*H21)
F22: =IF(OR(C22="",E22=""),"",C22*E22) | I22: =IF(OR(C22="",H22=""),"",C22*H22)
F23: =IF(OR(C23="",E23=""),"",C23*E23) | I23: =IF(OR(C23="",H23=""),"",C23*H23)
F24: =IF(OR(C24="",E24=""),"",C24*E24) | I24: =IF(OR(C24="",H24=""),"",C24*H24)
F25: =IF(OR(C25="",E25=""),"",C25*E25) | I25: =IF(OR(C25="",H25=""),"",C25*H25)
F26: =IF(OR(C26="",E26=""),"",C26*E26) | I26: =IF(OR(C26="",H26=""),"",C26*H26)
... F105: =IF(OR(C105="",E105=""),"",C105*E105) | I105: =IF(OR(C105="",H105=""),"",C105*H105)

Sheet Totais
A1: Total por categoria
A2: As categorias são editáveis (células amarelas) e alimentam a lista da aba Lista.
A4: Categoria | B4: Estimado (R$) | C4: Pago (R$) | D4: % do estimado
A5: Mercearia | B5: =SUMIF(Lista!$B$6:$B$105,A5,Lista!$F$6:$F$105) -> 51.4 | C5: =SUMIF(Lista!$B$6:$B$105,A5,Lista!$I$6:$I$105) -> 54.8 | D5: =IF(B5=0,"",C5/B5) -> 1.0661479
A6: Hortifruti | B6: =SUMIF(Lista!$B$6:$B$105,A6,Lista!$F$6:$F$105) -> 35.5 | C6: =SUMIF(Lista!$B$6:$B$105,A6,Lista!$I$6:$I$105) -> 0 | D6: =IF(B6=0,"",C6/B6) -> 0
A7: Carnes | B7: =SUMIF(Lista!$B$6:$B$105,A7,Lista!$F$6:$F$105) -> 51 | C7: =SUMIF(Lista!$B$6:$B$105,A7,Lista!$I$6:$I$105) -> 0 | D7: =IF(B7=0,"",C7/B7) -> 0
A8: Laticínios | B8: =SUMIF(Lista!$B$6:$B$105,A8,Lista!$F$6:$F$105) -> 62.4 | C8: =SUMIF(Lista!$B$6:$B$105,A8,Lista!$I$6:$I$105) -> 60 | D8: =IF(B8=0,"",C8/B8) -> 0.96153846
A9: Padaria | B9: =SUMIF(Lista!$B$6:$B$105,A9,Lista!$F$6:$F$105) -> 0 | C9: =SUMIF(Lista!$B$6:$B$105,A9,Lista!$I$6:$I$105) -> 0 | D9: =IF(B9=0,"",C9/B9)
A10: Bebidas | B10: =SUMIF(Lista!$B$6:$B$105,A10,Lista!$F$6:$F$105) -> 0 | C10: =SUMIF(Lista!$B$6:$B$105,A10,Lista!$I$6:$I$105) -> 0 | D10: =IF(B10=0,"",C10/B10)
A11: Limpeza | B11: =SUMIF(Lista!$B$6:$B$105,A11,Lista!$F$6:$F$105) -> 11.6 | C11: =SUMIF(Lista!$B$6:$B$105,A11,Lista!$I$6:$I$105) -> 0 | D11: =IF(B11=0,"",C11/B11) -> 0
A12: Higiene | B12: =SUMIF(Lista!$B$6:$B$105,A12,Lista!$F$6:$F$105) -> 24 | C12: =SUMIF(Lista!$B$6:$B$105,A12,Lista!$I$6:$I$105) -> 0 | D12: =IF(B12=0,"",C12/B12) -> 0
A13: Pet | B13: =SUMIF(Lista!$B$6:$B$105,A13,Lista!$F$6:$F$105) -> 0 | C13: =SUMIF(Lista!$B$6:$B$105,A13,Lista!$I$6:$I$105) -> 0 | D13: =IF(B13=0,"",C13/B13)
A14: Outros | B14: =SUMIF(Lista!$B$6:$B$105,A14,Lista!$F$6:$F$105) -> 0 | C14: =SUMIF(Lista!$B$6:$B$105,A14,Lista!$I$6:$I$105) -> 0 | D14: =IF(B14=0,"",C14/B14)
A15: Total | B15: =SUM(B5:B14) -> 235.9 | C15: =SUM(C5:C14) -> 114.8 | D15: =IF(B15=0,"",C15/B15) -> 0.48664688

Sheet Como usar
A1: Como usar
A3: 1 | B3: Digite o orçamento do mês na célula amarela do topo da aba Lista.
A4: 2 | B4: Liste os itens: nome, categoria (lista suspensa), quantidade, unidade e o preço estimado por unidade. O total estimado é calculado.
A5: 3 | B5: No mercado, escolha Sim na coluna Comprado? e digite o preço pago por unidade. A linha comprada fica acinzentada.
A6: 4 | B6: O orçamento restante usa o que já foi pago; se nada foi pago ainda, usa o estimado.
A7: 5 | B7: Na aba Totais, veja quanto vai em cada categoria. Você pode renomear as categorias nas células amarelas.
B9: Modelo gratuito do Excel na prática (baixarexcel.com.br/modelos/). Pode usar, editar e compartilhar.
