Workbook

Sheet Moradores
A1: Moradores
A2: Digite os nomes (até 6). Os nomes alimentam o restante da planilha.
A4: Nº | B4: Nome
A5: 1 | B5: Ana
A6: 2 | B6: Bruno
A7: 3 | B7: Carla
A8: 4 | B8: Diego
A9: 5
A10: 6

Sheet Contas
A1: Contas da casa
A2: Para cada conta: valor, quem pagou e quem participa. Digite 1 para quem divide a conta e deixe vazio ou 0 para quem não divide.
A4: Conta | B4: Valor (R$) | C4: Pago por | D4: =IF(Moradores!$B$5="","",Moradores!$B$5) -> Ana | E4: =IF(Moradores!$B$6="","",Moradores!$B$6) -> Bruno | F4: =IF(Moradores!$B$7="","",Moradores!$B$7) -> Carla | G4: =IF(Moradores!$B$8="","",Moradores!$B$8) -> Diego | H4: =IF(Moradores!$B$9="","",Moradores!$B$9) | I4: =IF(Moradores!$B$10="","",Moradores!$B$10) | J4: Nº de participantes | K4: Valor por pessoa
A5: Aluguel | B5: 2400 | C5: Ana | D5: 1 | E5: 1 | F5: 1 | G5: 1 | H5: 0 | I5: 0 | J5: =COUNTIF(D5:I5,1) -> 4 | K5: =IF(OR(N(B5)=0,J5=0),0,B5/J5) -> 600
A6: Energia | B6: 310 | C6: Bruno | D6: 1 | E6: 1 | F6: 1 | G6: 1 | H6: 0 | I6: 0 | J6: =COUNTIF(D6:I6,1) -> 4 | K6: =IF(OR(N(B6)=0,J6=0),0,B6/J6) -> 77.5
A7: Internet | B7: 120 | C7: Carla | D7: 1 | E7: 1 | F7: 1 | G7: 1 | H7: 0 | I7: 0 | J7: =COUNTIF(D7:I7,1) -> 4 | K7: =IF(OR(N(B7)=0,J7=0),0,B7/J7) -> 30
A8: Água | B8: 140 | C8: Ana | D8: 1 | E8: 1 | F8: 1 | G8: 1 | H8: 0 | I8: 0 | J8: =COUNTIF(D8:I8,1) -> 4 | K8: =IF(OR(N(B8)=0,J8=0),0,B8/J8) -> 35
A9: Compras do mês | B9: 820 | C9: Diego | D9: 1 | E9: 1 | F9: 1 | G9: 1 | H9: 0 | I9: 0 | J9: =COUNTIF(D9:I9,1) -> 4 | K9: =IF(OR(N(B9)=0,J9=0),0,B9/J9) -> 205
A10: Pizza de sábado | B10: 96 | C10: Bruno | D10: 1 | E10: 1 | F10: 0 | G10: 1 | H10: 0 | I10: 0 | J10: =COUNTIF(D10:I10,1) -> 3 | K10: =IF(OR(N(B10)=0,J10=0),0,B10/J10) -> 32
A11: Produtos de limpeza | B11: 78 | C11: Carla | D11: 1 | E11: 1 | F11: 1 | G11: 1 | H11: 0 | I11: 0 | J11: =COUNTIF(D11:I11,1) -> 4 | K11: =IF(OR(N(B11)=0,J11=0),0,B11/J11) -> 19.5
J12: =COUNTIF(D12:I12,1) -> 0 | K12: =IF(OR(N(B12)=0,J12=0),0,B12/J12) -> 0
J13: =COUNTIF(D13:I13,1) -> 0 | K13: =IF(OR(N(B13)=0,J13=0),0,B13/J13) -> 0
J14: =COUNTIF(D14:I14,1) -> 0 | K14: =IF(OR(N(B14)=0,J14=0),0,B14/J14) -> 0
J15: =COUNTIF(D15:I15,1) -> 0 | K15: =IF(OR(N(B15)=0,J15=0),0,B15/J15) -> 0
J16: =COUNTIF(D16:I16,1) -> 0 | K16: =IF(OR(N(B16)=0,J16=0),0,B16/J16) -> 0
J17: =COUNTIF(D17:I17,1) -> 0 | K17: =IF(OR(N(B17)=0,J17=0),0,B17/J17) -> 0
J18: =COUNTIF(D18:I18,1) -> 0 | K18: =IF(OR(N(B18)=0,J18=0),0,B18/J18) -> 0
J19: =COUNTIF(D19:I19,1) -> 0 | K19: =IF(OR(N(B19)=0,J19=0),0,B19/J19) -> 0
J20: =COUNTIF(D20:I20,1) -> 0 | K20: =IF(OR(N(B20)=0,J20=0),0,B20/J20) -> 0
J21: =COUNTIF(D21:I21,1) -> 0 | K21: =IF(OR(N(B21)=0,J21=0),0,B21/J21) -> 0
J22: =COUNTIF(D22:I22,1) -> 0 | K22: =IF(OR(N(B22)=0,J22=0),0,B22/J22) -> 0
J23: =COUNTIF(D23:I23,1) -> 0 | K23: =IF(OR(N(B23)=0,J23=0),0,B23/J23) -> 0
... J44: =COUNTIF(D44:I44,1) -> 0 | K44: =IF(OR(N(B44)=0,J44=0),0,B44/J44) -> 0

Sheet Saldos
A1: Saldos e acerto de contas
A2: Pagou = o que cada um adiantou. Deve = a parte dele em todas as contas. Saldo positivo recebe, negativo paga.
F3: Quem paga a quem (R$)
A4: Morador | B4: Pagou (R$) | C4: Deve (R$) | D4: Saldo (R$) | F4: Quem paga ↓ / recebe → | G4: =IF(A5="","",A5) -> Ana | H4: =IF(A6="","",A6) -> Bruno | I4: =IF(A7="","",A7) -> Carla | J4: =IF(A8="","",A8) -> Diego | K4: =IF(A9="","",A9) | L4: =IF(A10="","",A10)
A5: =IF(Moradores!B5="","",Moradores!B5) -> Ana | B5: =IF(A5="","",SUMIF(Contas!$C$5:$C$44,A5,Contas!$B$5:$B$44)) -> 2540 | C5: =IF(A5="","",SUMIF(Contas!D$5:D$44,1,Contas!$K$5:$K$44)) -> 999 | D5: =IF(A5="","",B5-C5) -> 1541 | F5: =IF(A5="","",A5) -> Ana | G5: =IF(OR($A5="",G$4=""),"",IF(AND($D5<-0.005,$D5>0.005),-$D5*$D5/SUMIF($D$5:$D$10,">0.005"),0)) -> 0 | H5: =IF(OR($A5="",H$4=""),"",IF(AND($D5<-0.005,$D6>0.005),-$D5*$D6/SUMIF($D$5:$D$10,">0.005"),0)) -> 0 | I5: =IF(OR($A5="",I$4=""),"",IF(AND($D5<-0.005,$D7>0.005),-$D5*$D7/SUMIF($D$5:$D$10,">0.005"),0)) -> 0 | J5: =IF(OR($A5="",J$4=""),"",IF(AND($D5<-0.005,$D8>0.005),-$D5*$D8/SUMIF($D$5:$D$10,">0.005"),0)) -> 0 | K5: =IF(OR($A5="",K$4=""),"",IF(AND($D5<-0.005,$D9>0.005),-$D5*$D9/SUMIF($D$5:$D$10,">0.005"),0)) | L5: =IF(OR($A5="",L$4=""),"",IF(AND($D5<-0.005,$D10>0.005),-$D5*$D10/SUMIF($D$5:$D$10,">0.005"),0))
A6: =IF(Moradores!B6="","",Moradores!B6) -> Bruno | B6: =IF(A6="","",SUMIF(Contas!$C$5:$C$44,A6,Contas!$B$5:$B$44)) -> 406 | C6: =IF(A6="","",SUMIF(Contas!E$5:E$44,1,Contas!$K$5:$K$44)) -> 999 | D6: =IF(A6="","",B6-C6) -> -593 | F6: =IF(A6="","",A6) -> Bruno | G6: =IF(OR($A6="",G$4=""),"",IF(AND($D6<-0.005,$D5>0.005),-$D6*$D5/SUMIF($D$5:$D$10,">0.005"),0)) -> 593 | H6: =IF(OR($A6="",H$4=""),"",IF(AND($D6<-0.005,$D6>0.005),-$D6*$D6/SUMIF($D$5:$D$10,">0.005"),0)) -> 0 | I6: =IF(OR($A6="",I$4=""),"",IF(AND($D6<-0.005,$D7>0.005),-$D6*$D7/SUMIF($D$5:$D$10,">0.005"),0)) -> 0 | J6: =IF(OR($A6="",J$4=""),"",IF(AND($D6<-0.005,$D8>0.005),-$D6*$D8/SUMIF($D$5:$D$10,">0.005"),0)) -> 0 | K6: =IF(OR($A6="",K$4=""),"",IF(AND($D6<-0.005,$D9>0.005),-$D6*$D9/SUMIF($D$5:$D$10,">0.005"),0)) | L6: =IF(OR($A6="",L$4=""),"",IF(AND($D6<-0.005,$D10>0.005),-$D6*$D10/SUMIF($D$5:$D$10,">0.005"),0))
A7: =IF(Moradores!B7="","",Moradores!B7) -> Carla | B7: =IF(A7="","",SUMIF(Contas!$C$5:$C$44,A7,Contas!$B$5:$B$44)) -> 198 | C7: =IF(A7="","",SUMIF(Contas!F$5:F$44,1,Contas!$K$5:$K$44)) -> 967 | D7: =IF(A7="","",B7-C7) -> -769 | F7: =IF(A7="","",A7) -> Carla | G7: =IF(OR($A7="",G$4=""),"",IF(AND($D7<-0.005,$D5>0.005),-$D7*$D5/SUMIF($D$5:$D$10,">0.005"),0)) -> 769 | H7: =IF(OR($A7="",H$4=""),"",IF(AND($D7<-0.005,$D6>0.005),-$D7*$D6/SUMIF($D$5:$D$10,">0.005"),0)) -> 0 | I7: =IF(OR($A7="",I$4=""),"",IF(AND($D7<-0.005,$D7>0.005),-$D7*$D7/SUMIF($D$5:$D$10,">0.005"),0)) -> 0 | J7: =IF(OR($A7="",J$4=""),"",IF(AND($D7<-0.005,$D8>0.005),-$D7*$D8/SUMIF($D$5:$D$10,">0.005"),0)) -> 0 | K7: =IF(OR($A7="",K$4=""),"",IF(AND($D7<-0.005,$D9>0.005),-$D7*$D9/SUMIF($D$5:$D$10,">0.005"),0)) | L7: =IF(OR($A7="",L$4=""),"",IF(AND($D7<-0.005,$D10>0.005),-$D7*$D10/SUMIF($D$5:$D$10,">0.005"),0))
A8: =IF(Moradores!B8="","",Moradores!B8) -> Diego | B8: =IF(A8="","",SUMIF(Contas!$C$5:$C$44,A8,Contas!$B$5:$B$44)) -> 820 | C8: =IF(A8="","",SUMIF(Contas!G$5:G$44,1,Contas!$K$5:$K$44)) -> 999 | D8: =IF(A8="","",B8-C8) -> -179 | F8: =IF(A8="","",A8) -> Diego | G8: =IF(OR($A8="",G$4=""),"",IF(AND($D8<-0.005,$D5>0.005),-$D8*$D5/SUMIF($D$5:$D$10,">0.005"),0)) -> 179 | H8: =IF(OR($A8="",H$4=""),"",IF(AND($D8<-0.005,$D6>0.005),-$D8*$D6/SUMIF($D$5:$D$10,">0.005"),0)) -> 0 | I8: =IF(OR($A8="",I$4=""),"",IF(AND($D8<-0.005,$D7>0.005),-$D8*$D7/SUMIF($D$5:$D$10,">0.005"),0)) -> 0 | J8: =IF(OR($A8="",J$4=""),"",IF(AND($D8<-0.005,$D8>0.005),-$D8*$D8/SUMIF($D$5:$D$10,">0.005"),0)) -> 0 | K8: =IF(OR($A8="",K$4=""),"",IF(AND($D8<-0.005,$D9>0.005),-$D8*$D9/SUMIF($D$5:$D$10,">0.005"),0)) | L8: =IF(OR($A8="",L$4=""),"",IF(AND($D8<-0.005,$D10>0.005),-$D8*$D10/SUMIF($D$5:$D$10,">0.005"),0))
A9: =IF(Moradores!B9="","",Moradores!B9) | B9: =IF(A9="","",SUMIF(Contas!$C$5:$C$44,A9,Contas!$B$5:$B$44)) | C9: =IF(A9="","",SUMIF(Contas!H$5:H$44,1,Contas!$K$5:$K$44)) | D9: =IF(A9="","",B9-C9) | F9: =IF(A9="","",A9) | G9: =IF(OR($A9="",G$4=""),"",IF(AND($D9<-0.005,$D5>0.005),-$D9*$D5/SUMIF($D$5:$D$10,">0.005"),0)) | H9: =IF(OR($A9="",H$4=""),"",IF(AND($D9<-0.005,$D6>0.005),-$D9*$D6/SUMIF($D$5:$D$10,">0.005"),0)) | I9: =IF(OR($A9="",I$4=""),"",IF(AND($D9<-0.005,$D7>0.005),-$D9*$D7/SUMIF($D$5:$D$10,">0.005"),0)) | J9: =IF(OR($A9="",J$4=""),"",IF(AND($D9<-0.005,$D8>0.005),-$D9*$D8/SUMIF($D$5:$D$10,">0.005"),0)) | K9: =IF(OR($A9="",K$4=""),"",IF(AND($D9<-0.005,$D9>0.005),-$D9*$D9/SUMIF($D$5:$D$10,">0.005"),0)) | L9: =IF(OR($A9="",L$4=""),"",IF(AND($D9<-0.005,$D10>0.005),-$D9*$D10/SUMIF($D$5:$D$10,">0.005"),0))
A10: =IF(Moradores!B10="","",Moradores!B10) | B10: =IF(A10="","",SUMIF(Contas!$C$5:$C$44,A10,Contas!$B$5:$B$44)) | C10: =IF(A10="","",SUMIF(Contas!I$5:I$44,1,Contas!$K$5:$K$44)) | D10: =IF(A10="","",B10-C10) | F10: =IF(A10="","",A10) | G10: =IF(OR($A10="",G$4=""),"",IF(AND($D10<-0.005,$D5>0.005),-$D10*$D5/SUMIF($D$5:$D$10,">0.005"),0)) | H10: =IF(OR($A10="",H$4=""),"",IF(AND($D10<-0.005,$D6>0.005),-$D10*$D6/SUMIF($D$5:$D$10,">0.005"),0)) | I10: =IF(OR($A10="",I$4=""),"",IF(AND($D10<-0.005,$D7>0.005),-$D10*$D7/SUMIF($D$5:$D$10,">0.005"),0)) | J10: =IF(OR($A10="",J$4=""),"",IF(AND($D10<-0.005,$D8>0.005),-$D10*$D8/SUMIF($D$5:$D$10,">0.005"),0)) | K10: =IF(OR($A10="",K$4=""),"",IF(AND($D10<-0.005,$D9>0.005),-$D10*$D9/SUMIF($D$5:$D$10,">0.005"),0)) | L10: =IF(OR($A10="",L$4=""),"",IF(AND($D10<-0.005,$D10>0.005),-$D10*$D10/SUMIF($D$5:$D$10,">0.005"),0))
A11: Total | B11: =SUM(B5:B10) -> 3964 | C11: =SUM(C5:C10) -> 3964 | D11: =SUM(D5:D10) -> 0
F12: Cada devedor divide o pagamento entre quem tem a receber, na proporção do que cada um tem a receber.

Sheet Como usar
A1: Como usar
A3: 1 | B3: Na aba Moradores, digite até 6 nomes.
A4: 2 | B4: Na aba Contas, lance cada conta com valor e quem pagou (lista). Nas colunas dos moradores, digite 1 para quem divide a conta; deixe em branco quem não participa.
A5: 3 | B5: A parte de cada morador em uma conta é o valor dividido pelo número de participantes (quem tem 1).
A6: 4 | B6: Na aba Saldos, veja quanto cada um adiantou, quanto devia e o saldo. Positivo (verde) tem a receber; negativo (vermelho) tem a pagar.
A7: 5 | B7: A tabela Quem paga a quem divide o pagamento de cada devedor entre os que têm a receber, na proporção do que cada um tem a receber.
A8: 6 | B8: A soma dos saldos é sempre zero: o que uns têm a receber é o que outros têm a pagar.
B10: Modelo gratuito do Excel na prática (baixarexcel.com.br/modelos/). Pode usar, editar e compartilhar.
