Workbook

Sheet Contas
A1: Contas a pagar e recibos
A2: Registre cada conta. Ao pagar, preencha a data e o valor pago. A situação é calculada pela data de hoje.
A4: Conta ou fornecedor | B4: Categoria | C4: Emissão | D4: Vencimento | E4: Valor (R$) | F4: Pago em | G4: Valor pago (R$) | H4: Situação | I4: Dias de atraso | J4: Nº do recibo ou nota | K4: Forma de pagamento
A5: Aluguel | B5: Moradia | C5: 46438 | D5: 46451 | E5: 1450 | F5: 46450 | G5: 1450 | H5: =IF(OR(A5="",D5=""),"",IF(F5<>"","Paga",IF(D5<TODAY(),"Vencida",IF(D5-TODAY()<=7,"Vence em até 7 dias","A vencer")))) -> Paga | I5: =IF(OR(A5="",D5=""),"",IF(F5<>"",MAX(0,F5-D5),MAX(0,TODAY()-D5))) -> 0 | J5: R-0231 | K5: Pix
A6: Energia elétrica | B6: Moradia | C6: 46443 | D6: 46456 | E6: 164.2 | F6: 46456 | G6: 164.2 | H6: =IF(OR(A6="",D6=""),"",IF(F6<>"","Paga",IF(D6<TODAY(),"Vencida",IF(D6-TODAY()<=7,"Vence em até 7 dias","A vencer")))) -> Paga | I6: =IF(OR(A6="",D6=""),"",IF(F6<>"",MAX(0,F6-D6),MAX(0,TODAY()-D6))) -> 0 | J6: R-0232 | K6: Débito
A7: Internet | B7: Moradia | C7: 46447 | D7: 46458 | E7: 99.9 | F7: 46458 | G7: 99.9 | H7: =IF(OR(A7="",D7=""),"",IF(F7<>"","Paga",IF(D7<TODAY(),"Vencida",IF(D7-TODAY()<=7,"Vence em até 7 dias","A vencer")))) -> Paga | I7: =IF(OR(A7="",D7=""),"",IF(F7<>"",MAX(0,F7-D7),MAX(0,TODAY()-D7))) -> 0 | J7: R-0233 | K7: Cartão
A8: Plano de saúde | B8: Saúde | C8: 46447 | D8: 46461 | E8: 389.5 | F8: 46461 | G8: 389.5 | H8: =IF(OR(A8="",D8=""),"",IF(F8<>"","Paga",IF(D8<TODAY(),"Vencida",IF(D8-TODAY()<=7,"Vence em até 7 dias","A vencer")))) -> Paga | I8: =IF(OR(A8="",D8=""),"",IF(F8<>"",MAX(0,F8-D8),MAX(0,TODAY()-D8))) -> 0 | J8: R-0234 | K8: Boleto
A9: Condomínio | B9: Moradia | C9: 46447 | D9: 46466 | E9: 520 | H9: =IF(OR(A9="",D9=""),"",IF(F9<>"","Paga",IF(D9<TODAY(),"Vencida",IF(D9-TODAY()<=7,"Vence em até 7 dias","A vencer")))) -> A vencer | I9: =IF(OR(A9="",D9=""),"",IF(F9<>"",MAX(0,F9-D9),MAX(0,TODAY()-D9))) -> 0
A10: Escola | B10: Educação | C10: 46447 | D10: 46471 | E10: 780 | H10: =IF(OR(A10="",D10=""),"",IF(F10<>"","Paga",IF(D10<TODAY(),"Vencida",IF(D10-TODAY()<=7,"Vence em até 7 dias","A vencer")))) -> A vencer | I10: =IF(OR(A10="",D10=""),"",IF(F10<>"",MAX(0,F10-D10),MAX(0,TODAY()-D10))) -> 0
A11: Seguro do carro | B11: Transporte | C11: 46456 | D11: 46482 | E11: 265.8 | H11: =IF(OR(A11="",D11=""),"",IF(F11<>"","Paga",IF(D11<TODAY(),"Vencida",IF(D11-TODAY()<=7,"Vence em até 7 dias","A vencer")))) -> A vencer | I11: =IF(OR(A11="",D11=""),"",IF(F11<>"",MAX(0,F11-D11),MAX(0,TODAY()-D11))) -> 0
A12: Contador | B12: Serviços | C12: 46466 | D12: 46487 | E12: 350 | H12: =IF(OR(A12="",D12=""),"",IF(F12<>"","Paga",IF(D12<TODAY(),"Vencida",IF(D12-TODAY()<=7,"Vence em até 7 dias","A vencer")))) -> A vencer | I12: =IF(OR(A12="",D12=""),"",IF(F12<>"",MAX(0,F12-D12),MAX(0,TODAY()-D12))) -> 0
H13: =IF(OR(A13="",D13=""),"",IF(F13<>"","Paga",IF(D13<TODAY(),"Vencida",IF(D13-TODAY()<=7,"Vence em até 7 dias","A vencer")))) | I13: =IF(OR(A13="",D13=""),"",IF(F13<>"",MAX(0,F13-D13),MAX(0,TODAY()-D13)))
H14: =IF(OR(A14="",D14=""),"",IF(F14<>"","Paga",IF(D14<TODAY(),"Vencida",IF(D14-TODAY()<=7,"Vence em até 7 dias","A vencer")))) | I14: =IF(OR(A14="",D14=""),"",IF(F14<>"",MAX(0,F14-D14),MAX(0,TODAY()-D14)))
H15: =IF(OR(A15="",D15=""),"",IF(F15<>"","Paga",IF(D15<TODAY(),"Vencida",IF(D15-TODAY()<=7,"Vence em até 7 dias","A vencer")))) | I15: =IF(OR(A15="",D15=""),"",IF(F15<>"",MAX(0,F15-D15),MAX(0,TODAY()-D15)))
H16: =IF(OR(A16="",D16=""),"",IF(F16<>"","Paga",IF(D16<TODAY(),"Vencida",IF(D16-TODAY()<=7,"Vence em até 7 dias","A vencer")))) | I16: =IF(OR(A16="",D16=""),"",IF(F16<>"",MAX(0,F16-D16),MAX(0,TODAY()-D16)))
H17: =IF(OR(A17="",D17=""),"",IF(F17<>"","Paga",IF(D17<TODAY(),"Vencida",IF(D17-TODAY()<=7,"Vence em até 7 dias","A vencer")))) | I17: =IF(OR(A17="",D17=""),"",IF(F17<>"",MAX(0,F17-D17),MAX(0,TODAY()-D17)))
H18: =IF(OR(A18="",D18=""),"",IF(F18<>"","Paga",IF(D18<TODAY(),"Vencida",IF(D18-TODAY()<=7,"Vence em até 7 dias","A vencer")))) | I18: =IF(OR(A18="",D18=""),"",IF(F18<>"",MAX(0,F18-D18),MAX(0,TODAY()-D18)))
H19: =IF(OR(A19="",D19=""),"",IF(F19<>"","Paga",IF(D19<TODAY(),"Vencida",IF(D19-TODAY()<=7,"Vence em até 7 dias","A vencer")))) | I19: =IF(OR(A19="",D19=""),"",IF(F19<>"",MAX(0,F19-D19),MAX(0,TODAY()-D19)))
H20: =IF(OR(A20="",D20=""),"",IF(F20<>"","Paga",IF(D20<TODAY(),"Vencida",IF(D20-TODAY()<=7,"Vence em até 7 dias","A vencer")))) | I20: =IF(OR(A20="",D20=""),"",IF(F20<>"",MAX(0,F20-D20),MAX(0,TODAY()-D20)))
H21: =IF(OR(A21="",D21=""),"",IF(F21<>"","Paga",IF(D21<TODAY(),"Vencida",IF(D21-TODAY()<=7,"Vence em até 7 dias","A vencer")))) | I21: =IF(OR(A21="",D21=""),"",IF(F21<>"",MAX(0,F21-D21),MAX(0,TODAY()-D21)))
H22: =IF(OR(A22="",D22=""),"",IF(F22<>"","Paga",IF(D22<TODAY(),"Vencida",IF(D22-TODAY()<=7,"Vence em até 7 dias","A vencer")))) | I22: =IF(OR(A22="",D22=""),"",IF(F22<>"",MAX(0,F22-D22),MAX(0,TODAY()-D22)))
H23: =IF(OR(A23="",D23=""),"",IF(F23<>"","Paga",IF(D23<TODAY(),"Vencida",IF(D23-TODAY()<=7,"Vence em até 7 dias","A vencer")))) | I23: =IF(OR(A23="",D23=""),"",IF(F23<>"",MAX(0,F23-D23),MAX(0,TODAY()-D23)))
H24: =IF(OR(A24="",D24=""),"",IF(F24<>"","Paga",IF(D24<TODAY(),"Vencida",IF(D24-TODAY()<=7,"Vence em até 7 dias","A vencer")))) | I24: =IF(OR(A24="",D24=""),"",IF(F24<>"",MAX(0,F24-D24),MAX(0,TODAY()-D24)))
... H304: =IF(OR(A304="",D304=""),"",IF(F304<>"","Paga",IF(D304<TODAY(),"Vencida",IF(D304-TODAY()<=7,"Vence em até 7 dias","A vencer")))) | I304: =IF(OR(A304="",D304=""),"",IF(F304<>"",MAX(0,F304-D304),MAX(0,TODAY()-D304)))

Sheet Resumo
A1: Resumo
A2: Valores calculados a partir da aba Contas, pela data de hoje. Escolha mês e ano para ver o que foi pago no período.
D3: Categoria | E3: Em aberto (R$)
A4: Total a pagar (contas em aberto) | B4: =SUMIF(Contas!$H$5:$H$304,"<>Paga",Contas!$E$5:$E$304) -> 1915.8 | D4: Moradia | E4: =SUMIFS(Contas!$E$5:$E$304,Contas!$B$5:$B$304,D4,Contas!$H$5:$H$304,"<>Paga",Contas!$A$5:$A$304,"<>") -> 0
A5: Vencidas (valor) | B5: =SUMIF(Contas!$H$5:$H$304,"Vencida",Contas!$E$5:$E$304) -> 0 | D5: Saúde | E5: =SUMIFS(Contas!$E$5:$E$304,Contas!$B$5:$B$304,D5,Contas!$H$5:$H$304,"<>Paga",Contas!$A$5:$A$304,"<>") -> 0
A6: Vence em até 7 dias (valor) | B6: =SUMIF(Contas!$H$5:$H$304,"Vence em até 7 dias",Contas!$E$5:$E$304) -> 0 | D6: Educação | E6: =SUMIFS(Contas!$E$5:$E$304,Contas!$B$5:$B$304,D6,Contas!$H$5:$H$304,"<>Paga",Contas!$A$5:$A$304,"<>") -> 0
A7: Quantidade vencida | B7: =COUNTIF(Contas!$H$5:$H$304,"Vencida") -> 0 | D7: Transporte | E7: =SUMIFS(Contas!$E$5:$E$304,Contas!$B$5:$B$304,D7,Contas!$H$5:$H$304,"<>Paga",Contas!$A$5:$A$304,"<>") -> 0
A8: Quantidade paga | B8: =COUNTIF(Contas!$H$5:$H$304,"Paga") -> 4 | D8: Serviços | E8: =SUMIFS(Contas!$E$5:$E$304,Contas!$B$5:$B$304,D8,Contas!$H$5:$H$304,"<>Paga",Contas!$A$5:$A$304,"<>") -> 0
D9: Impostos | E9: =SUMIFS(Contas!$E$5:$E$304,Contas!$B$5:$B$304,D9,Contas!$H$5:$H$304,"<>Paga",Contas!$A$5:$A$304,"<>") -> 0
A10: Mês (1 a 12) | B10: 3 | D10: Lazer | E10: =SUMIFS(Contas!$E$5:$E$304,Contas!$B$5:$B$304,D10,Contas!$H$5:$H$304,"<>Paga",Contas!$A$5:$A$304,"<>") -> 0
A11: Ano | B11: 2027 | D11: Outros | E11: =SUMIFS(Contas!$E$5:$E$304,Contas!$B$5:$B$304,D11,Contas!$H$5:$H$304,"<>Paga",Contas!$A$5:$A$304,"<>") -> 0
A12: Pago no mês escolhido | B12: =SUMIFS(Contas!$G$5:$G$304,Contas!$F$5:$F$304,">="&DATE($B$11,$B$10,1),Contas!$F$5:$F$304,"<"&DATE($B$11,$B$10+1,1)) -> 2103.6

Sheet Como usar
A1: Como usar
A3: 1 | B3: Registre cada conta na aba Contas: nome, categoria, data de emissão, vencimento e valor.
A4: 2 | B4: Quando pagar, digite a data do pagamento, o valor pago, a forma e o número do recibo ou da nota. A situação vira Paga.
A5: 3 | B5: A situação é automática: A vencer, Vence em até 7 dias, Vencida ou Paga, de acordo com a data de hoje.
A6: 4 | B6: Dias de atraso mostra quantos dias passaram do vencimento (em contas vencidas) ou o atraso do pagamento (em contas pagas).
A7: 5 | B7: A aba Resumo soma o que está em aberto, o que está vencido e quanto foi pago no mês escolhido.
A8: 6 | B8: Guarde o número do recibo para localizar o comprovante depois. A planilha não armazena o arquivo, só o número.
B10: Modelo gratuito do Excel na prática (baixarexcel.com.br/modelos/). Pode usar, editar e compartilhar.
