Workbook

Sheet Cartões
A1: Cartões
A2: Cadastre seus cartões, limite e dia de vencimento. A lista alimenta a aba Compras.
A4: Cartão | B4: Limite (R$) | C4: Dia do fechamento | D4: Dia do vencimento
A5: Cartão A | B5: 4000 | C5: 3 | D5: 10
A6: Cartão B | B6: 2500 | C6: 20 | D6: 27

Sheet Compras
A1: Compras no cartão
A2: Registre cada compra com o número de parcelas e o mês da primeira fatura (digite o dia 1 do mês, por exemplo 01/04/2027).
A4: Data da compra | B4: Descrição | C4: Cartão | D4: Valor total (R$) | E4: Parcelas | F4: Valor da parcela | G4: 1ª fatura (mês) | H4: Última fatura (mês)
A5: 46436 | B5: Notebook | C5: Cartão A | D5: 3600 | E5: 12 | F5: =IF(OR(D5="",E5="",N(E5)=0),0,D5/E5) -> 300 | G5: 46447 | H5: =IF(OR(G5="",E5=""),0,EDATE(G5,E5-1)) -> 46784
A6: 46450 | B6: Tênis | C6: Cartão A | D6: 360 | E6: 3 | F6: =IF(OR(D6="",E6="",N(E6)=0),0,D6/E6) -> 120 | G6: 46478 | H6: =IF(OR(G6="",E6=""),0,EDATE(G6,E6-1)) -> 46539
A7: 46456 | B7: Geladeira | C7: Cartão B | D7: 2400 | E7: 10 | F7: =IF(OR(D7="",E7="",N(E7)=0),0,D7/E7) -> 240 | G7: 46478 | H7: =IF(OR(G7="",E7=""),0,EDATE(G7,E7-1)) -> 46753
A8: 46458 | B8: Mercado | C8: Cartão A | D8: 412.7 | E8: 1 | F8: =IF(OR(D8="",E8="",N(E8)=0),0,D8/E8) -> 412.7 | G8: 46478 | H8: =IF(OR(G8="",E8=""),0,EDATE(G8,E8-1)) -> 46478
A9: 46466 | B9: Curso | C9: Cartão B | D9: 540 | E9: 6 | F9: =IF(OR(D9="",E9="",N(E9)=0),0,D9/E9) -> 90 | G9: 46478 | H9: =IF(OR(G9="",E9=""),0,EDATE(G9,E9-1)) -> 46631
A10: 46471 | B10: Passagem | C10: Cartão A | D10: 960 | E10: 4 | F10: =IF(OR(D10="",E10="",N(E10)=0),0,D10/E10) -> 240 | G10: 46508 | H10: =IF(OR(G10="",E10=""),0,EDATE(G10,E10-1)) -> 46600
F11: =IF(OR(D11="",E11="",N(E11)=0),0,D11/E11) -> 0 | H11: =IF(OR(G11="",E11=""),0,EDATE(G11,E11-1)) -> 0
F12: =IF(OR(D12="",E12="",N(E12)=0),0,D12/E12) -> 0 | H12: =IF(OR(G12="",E12=""),0,EDATE(G12,E12-1)) -> 0
F13: =IF(OR(D13="",E13="",N(E13)=0),0,D13/E13) -> 0 | H13: =IF(OR(G13="",E13=""),0,EDATE(G13,E13-1)) -> 0
F14: =IF(OR(D14="",E14="",N(E14)=0),0,D14/E14) -> 0 | H14: =IF(OR(G14="",E14=""),0,EDATE(G14,E14-1)) -> 0
F15: =IF(OR(D15="",E15="",N(E15)=0),0,D15/E15) -> 0 | H15: =IF(OR(G15="",E15=""),0,EDATE(G15,E15-1)) -> 0
F16: =IF(OR(D16="",E16="",N(E16)=0),0,D16/E16) -> 0 | H16: =IF(OR(G16="",E16=""),0,EDATE(G16,E16-1)) -> 0
F17: =IF(OR(D17="",E17="",N(E17)=0),0,D17/E17) -> 0 | H17: =IF(OR(G17="",E17=""),0,EDATE(G17,E17-1)) -> 0
F18: =IF(OR(D18="",E18="",N(E18)=0),0,D18/E18) -> 0 | H18: =IF(OR(G18="",E18=""),0,EDATE(G18,E18-1)) -> 0
F19: =IF(OR(D19="",E19="",N(E19)=0),0,D19/E19) -> 0 | H19: =IF(OR(G19="",E19=""),0,EDATE(G19,E19-1)) -> 0
F20: =IF(OR(D20="",E20="",N(E20)=0),0,D20/E20) -> 0 | H20: =IF(OR(G20="",E20=""),0,EDATE(G20,E20-1)) -> 0
F21: =IF(OR(D21="",E21="",N(E21)=0),0,D21/E21) -> 0 | H21: =IF(OR(G21="",E21=""),0,EDATE(G21,E21-1)) -> 0
F22: =IF(OR(D22="",E22="",N(E22)=0),0,D22/E22) -> 0 | H22: =IF(OR(G22="",E22=""),0,EDATE(G22,E22-1)) -> 0
... F204: =IF(OR(D204="",E204="",N(E204)=0),0,D204/E204) -> 0 | H204: =IF(OR(G204="",E204=""),0,EDATE(G204,E204-1)) -> 0

Sheet Faturas
A1: Faturas previstas
A2: Digite o primeiro mês (dia 1). A planilha soma as parcelas que caem em cada mês, por cartão.
A3: Primeiro mês | B3: 46447
A5: Mês | B5: =IF('Cartões'!A5="","",'Cartões'!A5) -> Cartão A | C5: =IF('Cartões'!A6="","",'Cartões'!A6) -> Cartão B | D5: =IF('Cartões'!A7="","",'Cartões'!A7) | E5: =IF('Cartões'!A8="","",'Cartões'!A8) | F5: Total do mês
A6: =$B$3 -> 46447 | B6: =IF(B$5="",0,SUMPRODUCT((Compras!$C$5:$C$204=B$5)*(Compras!$G$5:$G$204<=$A6)*(Compras!$H$5:$H$204>=$A6)*Compras!$F$5:$F$204)) -> 300 | C6: =IF(C$5="",0,SUMPRODUCT((Compras!$C$5:$C$204=C$5)*(Compras!$G$5:$G$204<=$A6)*(Compras!$H$5:$H$204>=$A6)*Compras!$F$5:$F$204)) -> 0 | D6: =IF(D$5="",0,SUMPRODUCT((Compras!$C$5:$C$204=D$5)*(Compras!$G$5:$G$204<=$A6)*(Compras!$H$5:$H$204>=$A6)*Compras!$F$5:$F$204)) -> 0 | E6: =IF(E$5="",0,SUMPRODUCT((Compras!$C$5:$C$204=E$5)*(Compras!$G$5:$G$204<=$A6)*(Compras!$H$5:$H$204>=$A6)*Compras!$F$5:$F$204)) -> 0 | F6: =SUM(B6:E6) -> 300
A7: =EDATE(A6,1) -> 46478 | B7: =IF(B$5="",0,SUMPRODUCT((Compras!$C$5:$C$204=B$5)*(Compras!$G$5:$G$204<=$A7)*(Compras!$H$5:$H$204>=$A7)*Compras!$F$5:$F$204)) -> 832.7 | C7: =IF(C$5="",0,SUMPRODUCT((Compras!$C$5:$C$204=C$5)*(Compras!$G$5:$G$204<=$A7)*(Compras!$H$5:$H$204>=$A7)*Compras!$F$5:$F$204)) -> 330 | D7: =IF(D$5="",0,SUMPRODUCT((Compras!$C$5:$C$204=D$5)*(Compras!$G$5:$G$204<=$A7)*(Compras!$H$5:$H$204>=$A7)*Compras!$F$5:$F$204)) -> 0 | E7: =IF(E$5="",0,SUMPRODUCT((Compras!$C$5:$C$204=E$5)*(Compras!$G$5:$G$204<=$A7)*(Compras!$H$5:$H$204>=$A7)*Compras!$F$5:$F$204)) -> 0 | F7: =SUM(B7:E7) -> 1162.7
A8: =EDATE(A7,1) -> 46508 | B8: =IF(B$5="",0,SUMPRODUCT((Compras!$C$5:$C$204=B$5)*(Compras!$G$5:$G$204<=$A8)*(Compras!$H$5:$H$204>=$A8)*Compras!$F$5:$F$204)) -> 660 | C8: =IF(C$5="",0,SUMPRODUCT((Compras!$C$5:$C$204=C$5)*(Compras!$G$5:$G$204<=$A8)*(Compras!$H$5:$H$204>=$A8)*Compras!$F$5:$F$204)) -> 330 | D8: =IF(D$5="",0,SUMPRODUCT((Compras!$C$5:$C$204=D$5)*(Compras!$G$5:$G$204<=$A8)*(Compras!$H$5:$H$204>=$A8)*Compras!$F$5:$F$204)) -> 0 | E8: =IF(E$5="",0,SUMPRODUCT((Compras!$C$5:$C$204=E$5)*(Compras!$G$5:$G$204<=$A8)*(Compras!$H$5:$H$204>=$A8)*Compras!$F$5:$F$204)) -> 0 | F8: =SUM(B8:E8) -> 990
A9: =EDATE(A8,1) -> 46539 | B9: =IF(B$5="",0,SUMPRODUCT((Compras!$C$5:$C$204=B$5)*(Compras!$G$5:$G$204<=$A9)*(Compras!$H$5:$H$204>=$A9)*Compras!$F$5:$F$204)) -> 660 | C9: =IF(C$5="",0,SUMPRODUCT((Compras!$C$5:$C$204=C$5)*(Compras!$G$5:$G$204<=$A9)*(Compras!$H$5:$H$204>=$A9)*Compras!$F$5:$F$204)) -> 330 | D9: =IF(D$5="",0,SUMPRODUCT((Compras!$C$5:$C$204=D$5)*(Compras!$G$5:$G$204<=$A9)*(Compras!$H$5:$H$204>=$A9)*Compras!$F$5:$F$204)) -> 0 | E9: =IF(E$5="",0,SUMPRODUCT((Compras!$C$5:$C$204=E$5)*(Compras!$G$5:$G$204<=$A9)*(Compras!$H$5:$H$204>=$A9)*Compras!$F$5:$F$204)) -> 0 | F9: =SUM(B9:E9) -> 990
A10: =EDATE(A9,1) -> 46569 | B10: =IF(B$5="",0,SUMPRODUCT((Compras!$C$5:$C$204=B$5)*(Compras!$G$5:$G$204<=$A10)*(Compras!$H$5:$H$204>=$A10)*Compras!$F$5:$F$204)) -> 540 | C10: =IF(C$5="",0,SUMPRODUCT((Compras!$C$5:$C$204=C$5)*(Compras!$G$5:$G$204<=$A10)*(Compras!$H$5:$H$204>=$A10)*Compras!$F$5:$F$204)) -> 330 | D10: =IF(D$5="",0,SUMPRODUCT((Compras!$C$5:$C$204=D$5)*(Compras!$G$5:$G$204<=$A10)*(Compras!$H$5:$H$204>=$A10)*Compras!$F$5:$F$204)) -> 0 | E10: =IF(E$5="",0,SUMPRODUCT((Compras!$C$5:$C$204=E$5)*(Compras!$G$5:$G$204<=$A10)*(Compras!$H$5:$H$204>=$A10)*Compras!$F$5:$F$204)) -> 0 | F10: =SUM(B10:E10) -> 870
A11: =EDATE(A10,1) -> 46600 | B11: =IF(B$5="",0,SUMPRODUCT((Compras!$C$5:$C$204=B$5)*(Compras!$G$5:$G$204<=$A11)*(Compras!$H$5:$H$204>=$A11)*Compras!$F$5:$F$204)) -> 540 | C11: =IF(C$5="",0,SUMPRODUCT((Compras!$C$5:$C$204=C$5)*(Compras!$G$5:$G$204<=$A11)*(Compras!$H$5:$H$204>=$A11)*Compras!$F$5:$F$204)) -> 330 | D11: =IF(D$5="",0,SUMPRODUCT((Compras!$C$5:$C$204=D$5)*(Compras!$G$5:$G$204<=$A11)*(Compras!$H$5:$H$204>=$A11)*Compras!$F$5:$F$204)) -> 0 | E11: =IF(E$5="",0,SUMPRODUCT((Compras!$C$5:$C$204=E$5)*(Compras!$G$5:$G$204<=$A11)*(Compras!$H$5:$H$204>=$A11)*Compras!$F$5:$F$204)) -> 0 | F11: =SUM(B11:E11) -> 870
A12: =EDATE(A11,1) -> 46631 | B12: =IF(B$5="",0,SUMPRODUCT((Compras!$C$5:$C$204=B$5)*(Compras!$G$5:$G$204<=$A12)*(Compras!$H$5:$H$204>=$A12)*Compras!$F$5:$F$204)) -> 300 | C12: =IF(C$5="",0,SUMPRODUCT((Compras!$C$5:$C$204=C$5)*(Compras!$G$5:$G$204<=$A12)*(Compras!$H$5:$H$204>=$A12)*Compras!$F$5:$F$204)) -> 330 | D12: =IF(D$5="",0,SUMPRODUCT((Compras!$C$5:$C$204=D$5)*(Compras!$G$5:$G$204<=$A12)*(Compras!$H$5:$H$204>=$A12)*Compras!$F$5:$F$204)) -> 0 | E12: =IF(E$5="",0,SUMPRODUCT((Compras!$C$5:$C$204=E$5)*(Compras!$G$5:$G$204<=$A12)*(Compras!$H$5:$H$204>=$A12)*Compras!$F$5:$F$204)) -> 0 | F12: =SUM(B12:E12) -> 630
A13: =EDATE(A12,1) -> 46661 | B13: =IF(B$5="",0,SUMPRODUCT((Compras!$C$5:$C$204=B$5)*(Compras!$G$5:$G$204<=$A13)*(Compras!$H$5:$H$204>=$A13)*Compras!$F$5:$F$204)) -> 300 | C13: =IF(C$5="",0,SUMPRODUCT((Compras!$C$5:$C$204=C$5)*(Compras!$G$5:$G$204<=$A13)*(Compras!$H$5:$H$204>=$A13)*Compras!$F$5:$F$204)) -> 240 | D13: =IF(D$5="",0,SUMPRODUCT((Compras!$C$5:$C$204=D$5)*(Compras!$G$5:$G$204<=$A13)*(Compras!$H$5:$H$204>=$A13)*Compras!$F$5:$F$204)) -> 0 | E13: =IF(E$5="",0,SUMPRODUCT((Compras!$C$5:$C$204=E$5)*(Compras!$G$5:$G$204<=$A13)*(Compras!$H$5:$H$204>=$A13)*Compras!$F$5:$F$204)) -> 0 | F13: =SUM(B13:E13) -> 540
A14: =EDATE(A13,1) -> 46692 | B14: =IF(B$5="",0,SUMPRODUCT((Compras!$C$5:$C$204=B$5)*(Compras!$G$5:$G$204<=$A14)*(Compras!$H$5:$H$204>=$A14)*Compras!$F$5:$F$204)) -> 300 | C14: =IF(C$5="",0,SUMPRODUCT((Compras!$C$5:$C$204=C$5)*(Compras!$G$5:$G$204<=$A14)*(Compras!$H$5:$H$204>=$A14)*Compras!$F$5:$F$204)) -> 240 | D14: =IF(D$5="",0,SUMPRODUCT((Compras!$C$5:$C$204=D$5)*(Compras!$G$5:$G$204<=$A14)*(Compras!$H$5:$H$204>=$A14)*Compras!$F$5:$F$204)) -> 0 | E14: =IF(E$5="",0,SUMPRODUCT((Compras!$C$5:$C$204=E$5)*(Compras!$G$5:$G$204<=$A14)*(Compras!$H$5:$H$204>=$A14)*Compras!$F$5:$F$204)) -> 0 | F14: =SUM(B14:E14) -> 540
A15: =EDATE(A14,1) -> 46722 | B15: =IF(B$5="",0,SUMPRODUCT((Compras!$C$5:$C$204=B$5)*(Compras!$G$5:$G$204<=$A15)*(Compras!$H$5:$H$204>=$A15)*Compras!$F$5:$F$204)) -> 300 | C15: =IF(C$5="",0,SUMPRODUCT((Compras!$C$5:$C$204=C$5)*(Compras!$G$5:$G$204<=$A15)*(Compras!$H$5:$H$204>=$A15)*Compras!$F$5:$F$204)) -> 240 | D15: =IF(D$5="",0,SUMPRODUCT((Compras!$C$5:$C$204=D$5)*(Compras!$G$5:$G$204<=$A15)*(Compras!$H$5:$H$204>=$A15)*Compras!$F$5:$F$204)) -> 0 | E15: =IF(E$5="",0,SUMPRODUCT((Compras!$C$5:$C$204=E$5)*(Compras!$G$5:$G$204<=$A15)*(Compras!$H$5:$H$204>=$A15)*Compras!$F$5:$F$204)) -> 0 | F15: =SUM(B15:E15) -> 540
A16: =EDATE(A15,1) -> 46753 | B16: =IF(B$5="",0,SUMPRODUCT((Compras!$C$5:$C$204=B$5)*(Compras!$G$5:$G$204<=$A16)*(Compras!$H$5:$H$204>=$A16)*Compras!$F$5:$F$204)) -> 300 | C16: =IF(C$5="",0,SUMPRODUCT((Compras!$C$5:$C$204=C$5)*(Compras!$G$5:$G$204<=$A16)*(Compras!$H$5:$H$204>=$A16)*Compras!$F$5:$F$204)) -> 240 | D16: =IF(D$5="",0,SUMPRODUCT((Compras!$C$5:$C$204=D$5)*(Compras!$G$5:$G$204<=$A16)*(Compras!$H$5:$H$204>=$A16)*Compras!$F$5:$F$204)) -> 0 | E16: =IF(E$5="",0,SUMPRODUCT((Compras!$C$5:$C$204=E$5)*(Compras!$G$5:$G$204<=$A16)*(Compras!$H$5:$H$204>=$A16)*Compras!$F$5:$F$204)) -> 0 | F16: =SUM(B16:E16) -> 540
A17: =EDATE(A16,1) -> 46784 | B17: =IF(B$5="",0,SUMPRODUCT((Compras!$C$5:$C$204=B$5)*(Compras!$G$5:$G$204<=$A17)*(Compras!$H$5:$H$204>=$A17)*Compras!$F$5:$F$204)) -> 300 | C17: =IF(C$5="",0,SUMPRODUCT((Compras!$C$5:$C$204=C$5)*(Compras!$G$5:$G$204<=$A17)*(Compras!$H$5:$H$204>=$A17)*Compras!$F$5:$F$204)) -> 0 | D17: =IF(D$5="",0,SUMPRODUCT((Compras!$C$5:$C$204=D$5)*(Compras!$G$5:$G$204<=$A17)*(Compras!$H$5:$H$204>=$A17)*Compras!$F$5:$F$204)) -> 0 | E17: =IF(E$5="",0,SUMPRODUCT((Compras!$C$5:$C$204=E$5)*(Compras!$G$5:$G$204<=$A17)*(Compras!$H$5:$H$204>=$A17)*Compras!$F$5:$F$204)) -> 0 | F17: =SUM(B17:E17) -> 300
A18: Total em 12 meses | B18: =SUM(B6:B17) -> 5332.7 | C18: =SUM(C6:C17) -> 2940 | D18: =SUM(D6:D17) -> 0 | E18: =SUM(E6:E17) -> 0 | F18: =SUM(F6:F17) -> 8272.7
A21: Maior fatura prevista x limite
A22: Cartão | B22: Limite (R$) | C22: Maior fatura prevista (R$) | D22: % do limite
A23: =IF('Cartões'!A5="","",'Cartões'!A5) -> Cartão A | B23: =IF(A23="","",'Cartões'!B5) -> 4000 | C23: =IF(A23="","",MAX(B6:B17)) -> 832.7 | D23: =IF(OR(A23="",N(B23)=0),"",C23/B23) -> 0.208175
A24: =IF('Cartões'!A6="","",'Cartões'!A6) -> Cartão B | B24: =IF(A24="","",'Cartões'!B6) -> 2500 | C24: =IF(A24="","",MAX(C6:C17)) -> 330 | D24: =IF(OR(A24="",N(B24)=0),"",C24/B24) -> 0.132
A25: =IF('Cartões'!A7="","",'Cartões'!A7) | B25: =IF(A25="","",'Cartões'!B7) | C25: =IF(A25="","",MAX(D6:D17)) | D25: =IF(OR(A25="",N(B25)=0),"",C25/B25)
A26: =IF('Cartões'!A8="","",'Cartões'!A8) | B26: =IF(A26="","",'Cartões'!B8) | C26: =IF(A26="","",MAX(E6:E17)) | D26: =IF(OR(A26="",N(B26)=0),"",C26/B26)

Sheet Como usar
A1: Como usar
A3: 1 | B3: Na aba Cartões, cadastre cada cartão com limite, dia de fechamento e dia de vencimento (até 4 cartões).
A4: 2 | B4: Na aba Compras, registre cada compra: data, descrição, cartão, valor total, número de parcelas e o mês da primeira fatura (digite o dia 1 do mês, como 01/04/2027).
A5: 3 | B5: O valor da parcela e o mês da última fatura são calculados. Compra à vista é parcela 1.
A6: 4 | B6: Na aba Faturas, digite o primeiro mês que quer ver. A planilha soma, mês a mês e cartão a cartão, as parcelas que caem em cada fatura.
A7: 5 | B7: O quadro Maior fatura prevista compara a fatura mais alta dos próximos 12 meses com o limite de cada cartão.
A8: 6 | B8: Para saber em qual fatura uma compra cai, olhe o dia de fechamento do cartão: compras depois do fechamento entram na fatura seguinte.
B10: Modelo gratuito do Excel na prática (baixarexcel.com.br/modelos/). Pode usar, editar e compartilhar.
